BEGIN:VCALENDAR
VERSION:2.0
PRODID:-//achurchnearyou.com//eventfeed//EN
CALSCALE:GREGORIAN
METHOD:PUBLISH
X-WR-TIMEZONE:UTC
BEGIN:VEVENT
SUMMARY:Weekday Mass
DTSTART;TZID=Europe/London:20260401T100000
DTEND;TZID=Europe/London:20260401T100000
DTSTAMP:20260424T211004Z
UID:5062631775034000.0achurchnearyou
CATEGORIES:
DESCRIPTION:Said Common Worship Mass.\nOften with sermon or spiritual read
 ing.
GEO:-2.163942;52.997692
LOCATION:Christ Church Fenton
URL:https://www.achurchnearyou.com/church/4279/service-and-events/events/5
 06263/
END:VEVENT
BEGIN:VEVENT
SUMMARY:The Parish Mass
DTSTART;TZID=Europe/London:20260405T103000
DTEND;TZID=Europe/London:20260405T113000
DTSTAMP:20260424T211004Z
UID:2547061775381400.0achurchnearyou
CATEGORIES:
DESCRIPTION:The main weekly service for all the family.\nA service includi
 ng sermon and the distribution of Holy Communion.
GEO:-2.163942;52.997692
LOCATION:Christ Church Fenton
URL:https://drive.google.com/drive/folders/0B-bzeGFEbkivWUpLV3M2TE9JLWs?re
 sourcekey=0-rKA9an_3qGT_0AKGaA86ZQ&usp=sharing
END:VEVENT
BEGIN:VEVENT
SUMMARY:Weekday Mass
DTSTART;TZID=Europe/London:20260408T100000
DTEND;TZID=Europe/London:20260408T100000
DTSTAMP:20260424T211004Z
UID:5062631775638800.0achurchnearyou
CATEGORIES:
DESCRIPTION:Said Common Worship Mass.\nOften with sermon or spiritual read
 ing.
GEO:-2.163942;52.997692
LOCATION:Christ Church Fenton
URL:https://www.achurchnearyou.com/church/4279/service-and-events/events/5
 06263/
END:VEVENT
BEGIN:VEVENT
SUMMARY:The Parish Mass
DTSTART;TZID=Europe/London:20260412T103000
DTEND;TZID=Europe/London:20260412T113000
DTSTAMP:20260424T211004Z
UID:2547061775986200.0achurchnearyou
CATEGORIES:
DESCRIPTION:The main weekly service for all the family.\nA service includi
 ng sermon and the distribution of Holy Communion.
GEO:-2.163942;52.997692
LOCATION:Christ Church Fenton
URL:https://drive.google.com/drive/folders/0B-bzeGFEbkivWUpLV3M2TE9JLWs?re
 sourcekey=0-rKA9an_3qGT_0AKGaA86ZQ&usp=sharing
END:VEVENT
BEGIN:VEVENT
SUMMARY:Weekday Mass
DTSTART;TZID=Europe/London:20260415T100000
DTEND;TZID=Europe/London:20260415T100000
DTSTAMP:20260424T211004Z
UID:5062631776243600.0achurchnearyou
CATEGORIES:
DESCRIPTION:Said Common Worship Mass.\nOften with sermon or spiritual read
 ing.
GEO:-2.163942;52.997692
LOCATION:Christ Church Fenton
URL:https://www.achurchnearyou.com/church/4279/service-and-events/events/5
 06263/
END:VEVENT
BEGIN:VEVENT
SUMMARY:The Parish Mass
DTSTART;TZID=Europe/London:20260419T103000
DTEND;TZID=Europe/London:20260419T113000
DTSTAMP:20260424T211004Z
UID:2547061776591000.0achurchnearyou
CATEGORIES:
DESCRIPTION:The main weekly service for all the family.\nA service includi
 ng sermon and the distribution of Holy Communion.
GEO:-2.163942;52.997692
LOCATION:Christ Church Fenton
URL:https://drive.google.com/drive/folders/0B-bzeGFEbkivWUpLV3M2TE9JLWs?re
 sourcekey=0-rKA9an_3qGT_0AKGaA86ZQ&usp=sharing
END:VEVENT
BEGIN:VEVENT
SUMMARY:Weekday Mass
DTSTART;TZID=Europe/London:20260422T100000
DTEND;TZID=Europe/London:20260422T100000
DTSTAMP:20260424T211004Z
UID:5062631776848400.0achurchnearyou
CATEGORIES:
DESCRIPTION:Said Common Worship Mass.\nOften with sermon or spiritual read
 ing.
GEO:-2.163942;52.997692
LOCATION:Christ Church Fenton
URL:https://www.achurchnearyou.com/church/4279/service-and-events/events/5
 06263/
END:VEVENT
BEGIN:VEVENT
SUMMARY:The Parish Mass
DTSTART;TZID=Europe/London:20260426T103000
DTEND;TZID=Europe/London:20260426T113000
DTSTAMP:20260424T211004Z
UID:2547061777195800.0achurchnearyou
CATEGORIES:
DESCRIPTION:The main weekly service for all the family.\nA service includi
 ng sermon and the distribution of Holy Communion.
GEO:-2.163942;52.997692
LOCATION:Christ Church Fenton
URL:https://drive.google.com/drive/folders/0B-bzeGFEbkivWUpLV3M2TE9JLWs?re
 sourcekey=0-rKA9an_3qGT_0AKGaA86ZQ&usp=sharing
END:VEVENT
BEGIN:VEVENT
SUMMARY:Weekday Mass
DTSTART;TZID=Europe/London:20260429T100000
DTEND;TZID=Europe/London:20260429T100000
DTSTAMP:20260424T211004Z
UID:5062631777453200.0achurchnearyou
CATEGORIES:
DESCRIPTION:Said Common Worship Mass.\nOften with sermon or spiritual read
 ing.
GEO:-2.163942;52.997692
LOCATION:Christ Church Fenton
URL:https://www.achurchnearyou.com/church/4279/service-and-events/events/5
 06263/
END:VEVENT
BEGIN:VEVENT
SUMMARY:The Parish Mass
DTSTART;TZID=Europe/London:20260503T103000
DTEND;TZID=Europe/London:20260503T113000
DTSTAMP:20260424T211004Z
UID:2547061777800600.0achurchnearyou
CATEGORIES:
DESCRIPTION:The main weekly service for all the family.\nA service includi
 ng sermon and the distribution of Holy Communion.
GEO:-2.163942;52.997692
LOCATION:Christ Church Fenton
URL:https://drive.google.com/drive/folders/0B-bzeGFEbkivWUpLV3M2TE9JLWs?re
 sourcekey=0-rKA9an_3qGT_0AKGaA86ZQ&usp=sharing
END:VEVENT
BEGIN:VEVENT
SUMMARY:Weekday Mass
DTSTART;TZID=Europe/London:20260506T100000
DTEND;TZID=Europe/London:20260506T100000
DTSTAMP:20260424T211004Z
UID:5062631778058000.0achurchnearyou
CATEGORIES:
DESCRIPTION:Said Common Worship Mass.\nOften with sermon or spiritual read
 ing.
GEO:-2.163942;52.997692
LOCATION:Christ Church Fenton
URL:https://www.achurchnearyou.com/church/4279/service-and-events/events/5
 06263/
END:VEVENT
BEGIN:VEVENT
SUMMARY:The Parish Mass
DTSTART;TZID=Europe/London:20260510T103000
DTEND;TZID=Europe/London:20260510T113000
DTSTAMP:20260424T211004Z
UID:2547061778405400.0achurchnearyou
CATEGORIES:
DESCRIPTION:The main weekly service for all the family.\nA service includi
 ng sermon and the distribution of Holy Communion.
GEO:-2.163942;52.997692
LOCATION:Christ Church Fenton
URL:https://drive.google.com/drive/folders/0B-bzeGFEbkivWUpLV3M2TE9JLWs?re
 sourcekey=0-rKA9an_3qGT_0AKGaA86ZQ&usp=sharing
END:VEVENT
BEGIN:VEVENT
SUMMARY:Weekday Mass
DTSTART;TZID=Europe/London:20260513T100000
DTEND;TZID=Europe/London:20260513T100000
DTSTAMP:20260424T211004Z
UID:5062631778662800.0achurchnearyou
CATEGORIES:
DESCRIPTION:Said Common Worship Mass.\nOften with sermon or spiritual read
 ing.
GEO:-2.163942;52.997692
LOCATION:Christ Church Fenton
URL:https://www.achurchnearyou.com/church/4279/service-and-events/events/5
 06263/
END:VEVENT
BEGIN:VEVENT
SUMMARY:The Parish Mass
DTSTART;TZID=Europe/London:20260517T103000
DTEND;TZID=Europe/London:20260517T113000
DTSTAMP:20260424T211004Z
UID:2547061779010200.0achurchnearyou
CATEGORIES:
DESCRIPTION:The main weekly service for all the family.\nA service includi
 ng sermon and the distribution of Holy Communion.
GEO:-2.163942;52.997692
LOCATION:Christ Church Fenton
URL:https://drive.google.com/drive/folders/0B-bzeGFEbkivWUpLV3M2TE9JLWs?re
 sourcekey=0-rKA9an_3qGT_0AKGaA86ZQ&usp=sharing
END:VEVENT
BEGIN:VEVENT
SUMMARY:Weekday Mass
DTSTART;TZID=Europe/London:20260520T100000
DTEND;TZID=Europe/London:20260520T100000
DTSTAMP:20260424T211004Z
UID:5062631779267600.0achurchnearyou
CATEGORIES:
DESCRIPTION:Said Common Worship Mass.\nOften with sermon or spiritual read
 ing.
GEO:-2.163942;52.997692
LOCATION:Christ Church Fenton
URL:https://www.achurchnearyou.com/church/4279/service-and-events/events/5
 06263/
END:VEVENT
BEGIN:VEVENT
SUMMARY:The Parish Mass
DTSTART;TZID=Europe/London:20260524T103000
DTEND;TZID=Europe/London:20260524T113000
DTSTAMP:20260424T211004Z
UID:2547061779615000.0achurchnearyou
CATEGORIES:
DESCRIPTION:The main weekly service for all the family.\nA service includi
 ng sermon and the distribution of Holy Communion.
GEO:-2.163942;52.997692
LOCATION:Christ Church Fenton
URL:https://drive.google.com/drive/folders/0B-bzeGFEbkivWUpLV3M2TE9JLWs?re
 sourcekey=0-rKA9an_3qGT_0AKGaA86ZQ&usp=sharing
END:VEVENT
BEGIN:VEVENT
SUMMARY:Weekday Mass
DTSTART;TZID=Europe/London:20260527T100000
DTEND;TZID=Europe/London:20260527T100000
DTSTAMP:20260424T211004Z
UID:5062631779872400.0achurchnearyou
CATEGORIES:
DESCRIPTION:Said Common Worship Mass.\nOften with sermon or spiritual read
 ing.
GEO:-2.163942;52.997692
LOCATION:Christ Church Fenton
URL:https://www.achurchnearyou.com/church/4279/service-and-events/events/5
 06263/
END:VEVENT
BEGIN:VEVENT
SUMMARY:The Parish Mass
DTSTART;TZID=Europe/London:20260531T103000
DTEND;TZID=Europe/London:20260531T113000
DTSTAMP:20260424T211004Z
UID:2547061780219800.0achurchnearyou
CATEGORIES:
DESCRIPTION:The main weekly service for all the family.\nA service includi
 ng sermon and the distribution of Holy Communion.
GEO:-2.163942;52.997692
LOCATION:Christ Church Fenton
URL:https://drive.google.com/drive/folders/0B-bzeGFEbkivWUpLV3M2TE9JLWs?re
 sourcekey=0-rKA9an_3qGT_0AKGaA86ZQ&usp=sharing
END:VEVENT
BEGIN:VEVENT
SUMMARY:Weekday Mass
DTSTART;TZID=Europe/London:20260603T100000
DTEND;TZID=Europe/London:20260603T100000
DTSTAMP:20260424T211004Z
UID:5062631780477200.0achurchnearyou
CATEGORIES:
DESCRIPTION:Said Common Worship Mass.\nOften with sermon or spiritual read
 ing.
GEO:-2.163942;52.997692
LOCATION:Christ Church Fenton
URL:https://www.achurchnearyou.com/church/4279/service-and-events/events/5
 06263/
END:VEVENT
BEGIN:VEVENT
SUMMARY:The Parish Mass
DTSTART;TZID=Europe/London:20260607T103000
DTEND;TZID=Europe/London:20260607T113000
DTSTAMP:20260424T211004Z
UID:2547061780824600.0achurchnearyou
CATEGORIES:
DESCRIPTION:The main weekly service for all the family.\nA service includi
 ng sermon and the distribution of Holy Communion.
GEO:-2.163942;52.997692
LOCATION:Christ Church Fenton
URL:https://drive.google.com/drive/folders/0B-bzeGFEbkivWUpLV3M2TE9JLWs?re
 sourcekey=0-rKA9an_3qGT_0AKGaA86ZQ&usp=sharing
END:VEVENT
BEGIN:VEVENT
SUMMARY:Weekday Mass
DTSTART;TZID=Europe/London:20260610T100000
DTEND;TZID=Europe/London:20260610T100000
DTSTAMP:20260424T211004Z
UID:5062631781082000.0achurchnearyou
CATEGORIES:
DESCRIPTION:Said Common Worship Mass.\nOften with sermon or spiritual read
 ing.
GEO:-2.163942;52.997692
LOCATION:Christ Church Fenton
URL:https://www.achurchnearyou.com/church/4279/service-and-events/events/5
 06263/
END:VEVENT
BEGIN:VEVENT
SUMMARY:The Parish Mass
DTSTART;TZID=Europe/London:20260614T103000
DTEND;TZID=Europe/London:20260614T113000
DTSTAMP:20260424T211004Z
UID:2547061781429400.0achurchnearyou
CATEGORIES:
DESCRIPTION:The main weekly service for all the family.\nA service includi
 ng sermon and the distribution of Holy Communion.
GEO:-2.163942;52.997692
LOCATION:Christ Church Fenton
URL:https://drive.google.com/drive/folders/0B-bzeGFEbkivWUpLV3M2TE9JLWs?re
 sourcekey=0-rKA9an_3qGT_0AKGaA86ZQ&usp=sharing
END:VEVENT
BEGIN:VEVENT
SUMMARY:Weekday Mass
DTSTART;TZID=Europe/London:20260617T100000
DTEND;TZID=Europe/London:20260617T100000
DTSTAMP:20260424T211004Z
UID:5062631781686800.0achurchnearyou
CATEGORIES:
DESCRIPTION:Said Common Worship Mass.\nOften with sermon or spiritual read
 ing.
GEO:-2.163942;52.997692
LOCATION:Christ Church Fenton
URL:https://www.achurchnearyou.com/church/4279/service-and-events/events/5
 06263/
END:VEVENT
BEGIN:VEVENT
SUMMARY:The Parish Mass
DTSTART;TZID=Europe/London:20260621T103000
DTEND;TZID=Europe/London:20260621T113000
DTSTAMP:20260424T211004Z
UID:2547061782034200.0achurchnearyou
CATEGORIES:
DESCRIPTION:The main weekly service for all the family.\nA service includi
 ng sermon and the distribution of Holy Communion.
GEO:-2.163942;52.997692
LOCATION:Christ Church Fenton
URL:https://drive.google.com/drive/folders/0B-bzeGFEbkivWUpLV3M2TE9JLWs?re
 sourcekey=0-rKA9an_3qGT_0AKGaA86ZQ&usp=sharing
END:VEVENT
BEGIN:VEVENT
SUMMARY:Weekday Mass
DTSTART;TZID=Europe/London:20260624T100000
DTEND;TZID=Europe/London:20260624T100000
DTSTAMP:20260424T211004Z
UID:5062631782291600.0achurchnearyou
CATEGORIES:
DESCRIPTION:Said Common Worship Mass.\nOften with sermon or spiritual read
 ing.
GEO:-2.163942;52.997692
LOCATION:Christ Church Fenton
URL:https://www.achurchnearyou.com/church/4279/service-and-events/events/5
 06263/
END:VEVENT
BEGIN:VEVENT
SUMMARY:The Parish Mass
DTSTART;TZID=Europe/London:20260628T103000
DTEND;TZID=Europe/London:20260628T113000
DTSTAMP:20260424T211004Z
UID:2547061782639000.0achurchnearyou
CATEGORIES:
DESCRIPTION:The main weekly service for all the family.\nA service includi
 ng sermon and the distribution of Holy Communion.
GEO:-2.163942;52.997692
LOCATION:Christ Church Fenton
URL:https://drive.google.com/drive/folders/0B-bzeGFEbkivWUpLV3M2TE9JLWs?re
 sourcekey=0-rKA9an_3qGT_0AKGaA86ZQ&usp=sharing
END:VEVENT
BEGIN:VEVENT
SUMMARY:Weekday Mass
DTSTART;TZID=Europe/London:20260701T100000
DTEND;TZID=Europe/London:20260701T100000
DTSTAMP:20260424T211004Z
UID:5062631782896400.0achurchnearyou
CATEGORIES:
DESCRIPTION:Said Common Worship Mass.\nOften with sermon or spiritual read
 ing.
GEO:-2.163942;52.997692
LOCATION:Christ Church Fenton
URL:https://www.achurchnearyou.com/church/4279/service-and-events/events/5
 06263/
END:VEVENT
BEGIN:VEVENT
SUMMARY:The Parish Mass
DTSTART;TZID=Europe/London:20260705T103000
DTEND;TZID=Europe/London:20260705T113000
DTSTAMP:20260424T211004Z
UID:2547061783243800.0achurchnearyou
CATEGORIES:
DESCRIPTION:The main weekly service for all the family.\nA service includi
 ng sermon and the distribution of Holy Communion.
GEO:-2.163942;52.997692
LOCATION:Christ Church Fenton
URL:https://drive.google.com/drive/folders/0B-bzeGFEbkivWUpLV3M2TE9JLWs?re
 sourcekey=0-rKA9an_3qGT_0AKGaA86ZQ&usp=sharing
END:VEVENT
BEGIN:VEVENT
SUMMARY:Weekday Mass
DTSTART;TZID=Europe/London:20260708T100000
DTEND;TZID=Europe/London:20260708T100000
DTSTAMP:20260424T211004Z
UID:5062631783501200.0achurchnearyou
CATEGORIES:
DESCRIPTION:Said Common Worship Mass.\nOften with sermon or spiritual read
 ing.
GEO:-2.163942;52.997692
LOCATION:Christ Church Fenton
URL:https://www.achurchnearyou.com/church/4279/service-and-events/events/5
 06263/
END:VEVENT
BEGIN:VEVENT
SUMMARY:The Parish Mass
DTSTART;TZID=Europe/London:20260712T103000
DTEND;TZID=Europe/London:20260712T113000
DTSTAMP:20260424T211004Z
UID:2547061783848600.0achurchnearyou
CATEGORIES:
DESCRIPTION:The main weekly service for all the family.\nA service includi
 ng sermon and the distribution of Holy Communion.
GEO:-2.163942;52.997692
LOCATION:Christ Church Fenton
URL:https://drive.google.com/drive/folders/0B-bzeGFEbkivWUpLV3M2TE9JLWs?re
 sourcekey=0-rKA9an_3qGT_0AKGaA86ZQ&usp=sharing
END:VEVENT
BEGIN:VEVENT
SUMMARY:Weekday Mass
DTSTART;TZID=Europe/London:20260715T100000
DTEND;TZID=Europe/London:20260715T100000
DTSTAMP:20260424T211004Z
UID:5062631784106000.0achurchnearyou
CATEGORIES:
DESCRIPTION:Said Common Worship Mass.\nOften with sermon or spiritual read
 ing.
GEO:-2.163942;52.997692
LOCATION:Christ Church Fenton
URL:https://www.achurchnearyou.com/church/4279/service-and-events/events/5
 06263/
END:VEVENT
BEGIN:VEVENT
SUMMARY:The Parish Mass
DTSTART;TZID=Europe/London:20260719T103000
DTEND;TZID=Europe/London:20260719T113000
DTSTAMP:20260424T211004Z
UID:2547061784453400.0achurchnearyou
CATEGORIES:
DESCRIPTION:The main weekly service for all the family.\nA service includi
 ng sermon and the distribution of Holy Communion.
GEO:-2.163942;52.997692
LOCATION:Christ Church Fenton
URL:https://drive.google.com/drive/folders/0B-bzeGFEbkivWUpLV3M2TE9JLWs?re
 sourcekey=0-rKA9an_3qGT_0AKGaA86ZQ&usp=sharing
END:VEVENT
BEGIN:VEVENT
SUMMARY:Weekday Mass
DTSTART;TZID=Europe/London:20260722T100000
DTEND;TZID=Europe/London:20260722T100000
DTSTAMP:20260424T211004Z
UID:5062631784710800.0achurchnearyou
CATEGORIES:
DESCRIPTION:Said Common Worship Mass.\nOften with sermon or spiritual read
 ing.
GEO:-2.163942;52.997692
LOCATION:Christ Church Fenton
URL:https://www.achurchnearyou.com/church/4279/service-and-events/events/5
 06263/
END:VEVENT
BEGIN:VEVENT
SUMMARY:The Parish Mass
DTSTART;TZID=Europe/London:20260726T103000
DTEND;TZID=Europe/London:20260726T113000
DTSTAMP:20260424T211004Z
UID:2547061785058200.0achurchnearyou
CATEGORIES:
DESCRIPTION:The main weekly service for all the family.\nA service includi
 ng sermon and the distribution of Holy Communion.
GEO:-2.163942;52.997692
LOCATION:Christ Church Fenton
URL:https://drive.google.com/drive/folders/0B-bzeGFEbkivWUpLV3M2TE9JLWs?re
 sourcekey=0-rKA9an_3qGT_0AKGaA86ZQ&usp=sharing
END:VEVENT
BEGIN:VEVENT
SUMMARY:Weekday Mass
DTSTART;TZID=Europe/London:20260729T100000
DTEND;TZID=Europe/London:20260729T100000
DTSTAMP:20260424T211004Z
UID:5062631785315600.0achurchnearyou
CATEGORIES:
DESCRIPTION:Said Common Worship Mass.\nOften with sermon or spiritual read
 ing.
GEO:-2.163942;52.997692
LOCATION:Christ Church Fenton
URL:https://www.achurchnearyou.com/church/4279/service-and-events/events/5
 06263/
END:VEVENT
BEGIN:VEVENT
SUMMARY:The Parish Mass
DTSTART;TZID=Europe/London:20260802T103000
DTEND;TZID=Europe/London:20260802T113000
DTSTAMP:20260424T211004Z
UID:2547061785663000.0achurchnearyou
CATEGORIES:
DESCRIPTION:The main weekly service for all the family.\nA service includi
 ng sermon and the distribution of Holy Communion.
GEO:-2.163942;52.997692
LOCATION:Christ Church Fenton
URL:https://drive.google.com/drive/folders/0B-bzeGFEbkivWUpLV3M2TE9JLWs?re
 sourcekey=0-rKA9an_3qGT_0AKGaA86ZQ&usp=sharing
END:VEVENT
BEGIN:VEVENT
SUMMARY:Weekday Mass
DTSTART;TZID=Europe/London:20260805T100000
DTEND;TZID=Europe/London:20260805T100000
DTSTAMP:20260424T211004Z
UID:5062631785920400.0achurchnearyou
CATEGORIES:
DESCRIPTION:Said Common Worship Mass.\nOften with sermon or spiritual read
 ing.
GEO:-2.163942;52.997692
LOCATION:Christ Church Fenton
URL:https://www.achurchnearyou.com/church/4279/service-and-events/events/5
 06263/
END:VEVENT
BEGIN:VEVENT
SUMMARY:The Parish Mass
DTSTART;TZID=Europe/London:20260809T103000
DTEND;TZID=Europe/London:20260809T113000
DTSTAMP:20260424T211004Z
UID:2547061786267800.0achurchnearyou
CATEGORIES:
DESCRIPTION:The main weekly service for all the family.\nA service includi
 ng sermon and the distribution of Holy Communion.
GEO:-2.163942;52.997692
LOCATION:Christ Church Fenton
URL:https://drive.google.com/drive/folders/0B-bzeGFEbkivWUpLV3M2TE9JLWs?re
 sourcekey=0-rKA9an_3qGT_0AKGaA86ZQ&usp=sharing
END:VEVENT
BEGIN:VEVENT
SUMMARY:Weekday Mass
DTSTART;TZID=Europe/London:20260812T100000
DTEND;TZID=Europe/London:20260812T100000
DTSTAMP:20260424T211004Z
UID:5062631786525200.0achurchnearyou
CATEGORIES:
DESCRIPTION:Said Common Worship Mass.\nOften with sermon or spiritual read
 ing.
GEO:-2.163942;52.997692
LOCATION:Christ Church Fenton
URL:https://www.achurchnearyou.com/church/4279/service-and-events/events/5
 06263/
END:VEVENT
BEGIN:VEVENT
SUMMARY:The Parish Mass
DTSTART;TZID=Europe/London:20260816T103000
DTEND;TZID=Europe/London:20260816T113000
DTSTAMP:20260424T211004Z
UID:2547061786872600.0achurchnearyou
CATEGORIES:
DESCRIPTION:The main weekly service for all the family.\nA service includi
 ng sermon and the distribution of Holy Communion.
GEO:-2.163942;52.997692
LOCATION:Christ Church Fenton
URL:https://drive.google.com/drive/folders/0B-bzeGFEbkivWUpLV3M2TE9JLWs?re
 sourcekey=0-rKA9an_3qGT_0AKGaA86ZQ&usp=sharing
END:VEVENT
BEGIN:VEVENT
SUMMARY:Weekday Mass
DTSTART;TZID=Europe/London:20260819T100000
DTEND;TZID=Europe/London:20260819T100000
DTSTAMP:20260424T211004Z
UID:5062631787130000.0achurchnearyou
CATEGORIES:
DESCRIPTION:Said Common Worship Mass.\nOften with sermon or spiritual read
 ing.
GEO:-2.163942;52.997692
LOCATION:Christ Church Fenton
URL:https://www.achurchnearyou.com/church/4279/service-and-events/events/5
 06263/
END:VEVENT
BEGIN:VEVENT
SUMMARY:The Parish Mass
DTSTART;TZID=Europe/London:20260823T103000
DTEND;TZID=Europe/London:20260823T113000
DTSTAMP:20260424T211004Z
UID:2547061787477400.0achurchnearyou
CATEGORIES:
DESCRIPTION:The main weekly service for all the family.\nA service includi
 ng sermon and the distribution of Holy Communion.
GEO:-2.163942;52.997692
LOCATION:Christ Church Fenton
URL:https://drive.google.com/drive/folders/0B-bzeGFEbkivWUpLV3M2TE9JLWs?re
 sourcekey=0-rKA9an_3qGT_0AKGaA86ZQ&usp=sharing
END:VEVENT
BEGIN:VEVENT
SUMMARY:Weekday Mass
DTSTART;TZID=Europe/London:20260826T100000
DTEND;TZID=Europe/London:20260826T100000
DTSTAMP:20260424T211004Z
UID:5062631787734800.0achurchnearyou
CATEGORIES:
DESCRIPTION:Said Common Worship Mass.\nOften with sermon or spiritual read
 ing.
GEO:-2.163942;52.997692
LOCATION:Christ Church Fenton
URL:https://www.achurchnearyou.com/church/4279/service-and-events/events/5
 06263/
END:VEVENT
BEGIN:VEVENT
SUMMARY:The Parish Mass
DTSTART;TZID=Europe/London:20260830T103000
DTEND;TZID=Europe/London:20260830T113000
DTSTAMP:20260424T211004Z
UID:2547061788082200.0achurchnearyou
CATEGORIES:
DESCRIPTION:The main weekly service for all the family.\nA service includi
 ng sermon and the distribution of Holy Communion.
GEO:-2.163942;52.997692
LOCATION:Christ Church Fenton
URL:https://drive.google.com/drive/folders/0B-bzeGFEbkivWUpLV3M2TE9JLWs?re
 sourcekey=0-rKA9an_3qGT_0AKGaA86ZQ&usp=sharing
END:VEVENT
BEGIN:VEVENT
SUMMARY:Weekday Mass
DTSTART;TZID=Europe/London:20260902T100000
DTEND;TZID=Europe/London:20260902T100000
DTSTAMP:20260424T211004Z
UID:5062631788339600.0achurchnearyou
CATEGORIES:
DESCRIPTION:Said Common Worship Mass.\nOften with sermon or spiritual read
 ing.
GEO:-2.163942;52.997692
LOCATION:Christ Church Fenton
URL:https://www.achurchnearyou.com/church/4279/service-and-events/events/5
 06263/
END:VEVENT
BEGIN:VEVENT
SUMMARY:The Parish Mass
DTSTART;TZID=Europe/London:20260906T103000
DTEND;TZID=Europe/London:20260906T113000
DTSTAMP:20260424T211004Z
UID:2547061788687000.0achurchnearyou
CATEGORIES:
DESCRIPTION:The main weekly service for all the family.\nA service includi
 ng sermon and the distribution of Holy Communion.
GEO:-2.163942;52.997692
LOCATION:Christ Church Fenton
URL:https://drive.google.com/drive/folders/0B-bzeGFEbkivWUpLV3M2TE9JLWs?re
 sourcekey=0-rKA9an_3qGT_0AKGaA86ZQ&usp=sharing
END:VEVENT
BEGIN:VEVENT
SUMMARY:Weekday Mass
DTSTART;TZID=Europe/London:20260909T100000
DTEND;TZID=Europe/London:20260909T100000
DTSTAMP:20260424T211005Z
UID:5062631788944400.0achurchnearyou
CATEGORIES:
DESCRIPTION:Said Common Worship Mass.\nOften with sermon or spiritual read
 ing.
GEO:-2.163942;52.997692
LOCATION:Christ Church Fenton
URL:https://www.achurchnearyou.com/church/4279/service-and-events/events/5
 06263/
END:VEVENT
BEGIN:VEVENT
SUMMARY:The Parish Mass
DTSTART;TZID=Europe/London:20260913T103000
DTEND;TZID=Europe/London:20260913T113000
DTSTAMP:20260424T211005Z
UID:2547061789291800.0achurchnearyou
CATEGORIES:
DESCRIPTION:The main weekly service for all the family.\nA service includi
 ng sermon and the distribution of Holy Communion.
GEO:-2.163942;52.997692
LOCATION:Christ Church Fenton
URL:https://drive.google.com/drive/folders/0B-bzeGFEbkivWUpLV3M2TE9JLWs?re
 sourcekey=0-rKA9an_3qGT_0AKGaA86ZQ&usp=sharing
END:VEVENT
BEGIN:VEVENT
SUMMARY:Weekday Mass
DTSTART;TZID=Europe/London:20260916T100000
DTEND;TZID=Europe/London:20260916T100000
DTSTAMP:20260424T211005Z
UID:5062631789549200.0achurchnearyou
CATEGORIES:
DESCRIPTION:Said Common Worship Mass.\nOften with sermon or spiritual read
 ing.
GEO:-2.163942;52.997692
LOCATION:Christ Church Fenton
URL:https://www.achurchnearyou.com/church/4279/service-and-events/events/5
 06263/
END:VEVENT
BEGIN:VEVENT
SUMMARY:The Parish Mass
DTSTART;TZID=Europe/London:20260920T103000
DTEND;TZID=Europe/London:20260920T113000
DTSTAMP:20260424T211005Z
UID:2547061789896600.0achurchnearyou
CATEGORIES:
DESCRIPTION:The main weekly service for all the family.\nA service includi
 ng sermon and the distribution of Holy Communion.
GEO:-2.163942;52.997692
LOCATION:Christ Church Fenton
URL:https://drive.google.com/drive/folders/0B-bzeGFEbkivWUpLV3M2TE9JLWs?re
 sourcekey=0-rKA9an_3qGT_0AKGaA86ZQ&usp=sharing
END:VEVENT
BEGIN:VEVENT
SUMMARY:Weekday Mass
DTSTART;TZID=Europe/London:20260923T100000
DTEND;TZID=Europe/London:20260923T100000
DTSTAMP:20260424T211005Z
UID:5062631790154000.0achurchnearyou
CATEGORIES:
DESCRIPTION:Said Common Worship Mass.\nOften with sermon or spiritual read
 ing.
GEO:-2.163942;52.997692
LOCATION:Christ Church Fenton
URL:https://www.achurchnearyou.com/church/4279/service-and-events/events/5
 06263/
END:VEVENT
BEGIN:VEVENT
SUMMARY:The Parish Mass
DTSTART;TZID=Europe/London:20260927T103000
DTEND;TZID=Europe/London:20260927T113000
DTSTAMP:20260424T211005Z
UID:2547061790501400.0achurchnearyou
CATEGORIES:
DESCRIPTION:The main weekly service for all the family.\nA service includi
 ng sermon and the distribution of Holy Communion.
GEO:-2.163942;52.997692
LOCATION:Christ Church Fenton
URL:https://drive.google.com/drive/folders/0B-bzeGFEbkivWUpLV3M2TE9JLWs?re
 sourcekey=0-rKA9an_3qGT_0AKGaA86ZQ&usp=sharing
END:VEVENT
BEGIN:VEVENT
SUMMARY:Weekday Mass
DTSTART;TZID=Europe/London:20260930T100000
DTEND;TZID=Europe/London:20260930T100000
DTSTAMP:20260424T211005Z
UID:5062631790758800.0achurchnearyou
CATEGORIES:
DESCRIPTION:Said Common Worship Mass.\nOften with sermon or spiritual read
 ing.
GEO:-2.163942;52.997692
LOCATION:Christ Church Fenton
URL:https://www.achurchnearyou.com/church/4279/service-and-events/events/5
 06263/
END:VEVENT
END:VCALENDAR
