BEGIN:VCALENDAR
VERSION:2.0
PRODID:-//achurchnearyou.com//eventfeed//EN
CALSCALE:GREGORIAN
METHOD:PUBLISH
X-WR-TIMEZONE:UTC
BEGIN:VEVENT
SUMMARY:Hilderstone Scarecrow Weekend
DTSTART:20240615T123000Z
DTEND:20240616T153000Z
DTSTAMP:20260423T202359Z
UID:10419242024-06-15 12:30:00+00:00achurchnearyou
CATEGORIES:
DESCRIPTION:The village of Hilderstone celebrates the humble scarecrow\, w
 ith a lovely collection of straw friends to be found around the village an
 d Christ Church.  The weekend culminates in a family Scarecrow service.
GEO:-2.075463;52.91008
LOCATION:Hilderstone Christ Church
URL:https://www.achurchnearyou.com/church/4283/service-and-events/events/1
 041924/
END:VEVENT
END:VCALENDAR
