BEGIN:VCALENDAR
VERSION:2.0
PRODID:-//achurchnearyou.com//eventfeed//EN
CALSCALE:GREGORIAN
METHOD:PUBLISH
X-WR-TIMEZONE:UTC
BEGIN:VEVENT
SUMMARY:First Eucharist of Christmas
DTSTART:20251224T233000Z
DTEND:20251225T003000Z
DTSTAMP:20260425T154537Z
UID:12698842025-12-24 23:30:00+00:00achurchnearyou
CATEGORIES:
DESCRIPTION:A reflective service of Holy Communion\, with a carol or two\,
  for this holy night.
GEO:-1.985393;52.787737
LOCATION:St. Michael and All Angels
URL:https://www.achurchnearyou.com/church/4288/service-and-events/events/1
 269884/
END:VEVENT
END:VCALENDAR
