BEGIN:VCALENDAR
VERSION:2.0
PRODID:-//achurchnearyou.com//eventfeed//EN
CALSCALE:GREGORIAN
METHOD:PUBLISH
X-WR-TIMEZONE:UTC
BEGIN:VEVENT
SUMMARY:Easter Vigil and First Festal Mass.
DTSTART:20250419T170000Z
DTEND:20250419T180000Z
DTSTAMP:20260419T135659Z
UID:11825722025-04-19 17:00:00+00:00achurchnearyou
CATEGORIES:
DESCRIPTION:Followed by Drinks party.
GEO:-1.816281;52.804892
LOCATION:The Church of the Holy Angels\, Hoar Cross
URL:https://www.achurchnearyou.com/church/4322/service-and-events/events/1
 182572/
END:VEVENT
END:VCALENDAR
