BEGIN:VCALENDAR
VERSION:2.0
PRODID:-//achurchnearyou.com//eventfeed//EN
CALSCALE:GREGORIAN
METHOD:PUBLISH
X-WR-TIMEZONE:UTC
BEGIN:VEVENT
SUMMARY:Morning Prayer 4th Sunday of month
DTSTART;TZID=Europe/London:20260426T110000
DTEND;TZID=Europe/London:20260426T115000
DTSTAMP:20260424T041347Z
UID:5115842026-04-26 11:00:00+01:00achurchnearyou
CATEGORIES:
DESCRIPTION:All welcome to this regular service.
GEO:-2.577062;52.853524
LOCATION:Hodnet St.Luke
URL:https://www.achurchnearyou.com/church/4323/service-and-events/events/5
 11584/
END:VEVENT
BEGIN:VEVENT
SUMMARY:Morning Prayer 4th Sunday of month
DTSTART;TZID=Europe/London:20260524T110000
DTEND;TZID=Europe/London:20260524T115000
DTSTAMP:20260424T041347Z
UID:5115842026-05-24 11:00:00+01:00achurchnearyou
CATEGORIES:
DESCRIPTION:All welcome to this regular service.
GEO:-2.577062;52.853524
LOCATION:Hodnet St.Luke
URL:https://www.achurchnearyou.com/church/4323/service-and-events/events/5
 11584/
END:VEVENT
BEGIN:VEVENT
SUMMARY:Morning Prayer 4th Sunday of month
DTSTART;TZID=Europe/London:20260628T110000
DTEND;TZID=Europe/London:20260628T115000
DTSTAMP:20260424T041347Z
UID:5115842026-06-28 11:00:00+01:00achurchnearyou
CATEGORIES:
DESCRIPTION:All welcome to this regular service.
GEO:-2.577062;52.853524
LOCATION:Hodnet St.Luke
URL:https://www.achurchnearyou.com/church/4323/service-and-events/events/5
 11584/
END:VEVENT
BEGIN:VEVENT
SUMMARY:Morning Prayer 4th Sunday of month
DTSTART;TZID=Europe/London:20260726T110000
DTEND;TZID=Europe/London:20260726T115000
DTSTAMP:20260424T041347Z
UID:5115842026-07-26 11:00:00+01:00achurchnearyou
CATEGORIES:
DESCRIPTION:All welcome to this regular service.
GEO:-2.577062;52.853524
LOCATION:Hodnet St.Luke
URL:https://www.achurchnearyou.com/church/4323/service-and-events/events/5
 11584/
END:VEVENT
BEGIN:VEVENT
SUMMARY:Morning Prayer 4th Sunday of month
DTSTART;TZID=Europe/London:20260823T110000
DTEND;TZID=Europe/London:20260823T115000
DTSTAMP:20260424T041347Z
UID:5115842026-08-23 11:00:00+01:00achurchnearyou
CATEGORIES:
DESCRIPTION:All welcome to this regular service.
GEO:-2.577062;52.853524
LOCATION:Hodnet St.Luke
URL:https://www.achurchnearyou.com/church/4323/service-and-events/events/5
 11584/
END:VEVENT
BEGIN:VEVENT
SUMMARY:Morning Prayer 4th Sunday of month
DTSTART;TZID=Europe/London:20260927T110000
DTEND;TZID=Europe/London:20260927T115000
DTSTAMP:20260424T041347Z
UID:5115842026-09-27 11:00:00+01:00achurchnearyou
CATEGORIES:
DESCRIPTION:All welcome to this regular service.
GEO:-2.577062;52.853524
LOCATION:Hodnet St.Luke
URL:https://www.achurchnearyou.com/church/4323/service-and-events/events/5
 11584/
END:VEVENT
BEGIN:VEVENT
SUMMARY:Morning Prayer 4th Sunday of month
DTSTART;TZID=Europe/London:20261025T110000
DTEND;TZID=Europe/London:20261025T115000
DTSTAMP:20260424T041347Z
UID:5115842026-10-25 11:00:00+00:00achurchnearyou
CATEGORIES:
DESCRIPTION:All welcome to this regular service.
GEO:-2.577062;52.853524
LOCATION:Hodnet St.Luke
URL:https://www.achurchnearyou.com/church/4323/service-and-events/events/5
 11584/
END:VEVENT
BEGIN:VEVENT
SUMMARY:Morning Prayer 4th Sunday of month
DTSTART;TZID=Europe/London:20261122T110000
DTEND;TZID=Europe/London:20261122T115000
DTSTAMP:20260424T041347Z
UID:5115842026-11-22 11:00:00+00:00achurchnearyou
CATEGORIES:
DESCRIPTION:All welcome to this regular service.
GEO:-2.577062;52.853524
LOCATION:Hodnet St.Luke
URL:https://www.achurchnearyou.com/church/4323/service-and-events/events/5
 11584/
END:VEVENT
BEGIN:VEVENT
SUMMARY:Morning Prayer 4th Sunday of month
DTSTART;TZID=Europe/London:20261227T110000
DTEND;TZID=Europe/London:20261227T115000
DTSTAMP:20260424T041347Z
UID:5115842026-12-27 11:00:00+00:00achurchnearyou
CATEGORIES:
DESCRIPTION:All welcome to this regular service.
GEO:-2.577062;52.853524
LOCATION:Hodnet St.Luke
URL:https://www.achurchnearyou.com/church/4323/service-and-events/events/5
 11584/
END:VEVENT
BEGIN:VEVENT
SUMMARY:Morning Prayer 4th Sunday of month
DTSTART;TZID=Europe/London:20270124T110000
DTEND;TZID=Europe/London:20270124T115000
DTSTAMP:20260424T041347Z
UID:5115842027-01-24 11:00:00+00:00achurchnearyou
CATEGORIES:
DESCRIPTION:All welcome to this regular service.
GEO:-2.577062;52.853524
LOCATION:Hodnet St.Luke
URL:https://www.achurchnearyou.com/church/4323/service-and-events/events/5
 11584/
END:VEVENT
BEGIN:VEVENT
SUMMARY:Morning Prayer 4th Sunday of month
DTSTART;TZID=Europe/London:20270228T110000
DTEND;TZID=Europe/London:20270228T115000
DTSTAMP:20260424T041347Z
UID:5115842027-02-28 11:00:00+00:00achurchnearyou
CATEGORIES:
DESCRIPTION:All welcome to this regular service.
GEO:-2.577062;52.853524
LOCATION:Hodnet St.Luke
URL:https://www.achurchnearyou.com/church/4323/service-and-events/events/5
 11584/
END:VEVENT
BEGIN:VEVENT
SUMMARY:Morning Prayer 4th Sunday of month
DTSTART;TZID=Europe/London:20270328T110000
DTEND;TZID=Europe/London:20270328T115000
DTSTAMP:20260424T041347Z
UID:5115842027-03-28 11:00:00+01:00achurchnearyou
CATEGORIES:
DESCRIPTION:All welcome to this regular service.
GEO:-2.577062;52.853524
LOCATION:Hodnet St.Luke
URL:https://www.achurchnearyou.com/church/4323/service-and-events/events/5
 11584/
END:VEVENT
END:VCALENDAR
