BEGIN:VCALENDAR
VERSION:2.0
PRODID:-//achurchnearyou.com//eventfeed//EN
CALSCALE:GREGORIAN
METHOD:PUBLISH
X-WR-TIMEZONE:UTC
BEGIN:VEVENT
SUMMARY:Carol Service
DTSTART:20251221T103000Z
DTEND:20251221T113000Z
DTSTAMP:20260419T125226Z
UID:12500982025-12-21 10:30:00+00:00achurchnearyou
CATEGORIES:
DESCRIPTION:Join to hear the Christmas Story again with readings and carol
 s followed by refreshments. All Welcome.
GEO:-2.989154;52.794529
LOCATION:Knockin St. Mary
URL:https://www.kmkmm.org
END:VEVENT
END:VCALENDAR
