BEGIN:VCALENDAR
VERSION:2.0
PRODID:-//achurchnearyou.com//eventfeed//EN
CALSCALE:GREGORIAN
METHOD:PUBLISH
X-WR-TIMEZONE:UTC
BEGIN:VEVENT
SUMMARY:Holy Communion
DTSTART;TZID=Europe/London:20260412T100000
DTEND;TZID=Europe/London:20260412T110000
DTSTAMP:20260423T054138Z
UID:7550521775984400.0achurchnearyou
CATEGORIES:
DESCRIPTION:Common Worship
LOCATION:Maesbrook St John
URL:https://www.kmkmm.org
END:VEVENT
BEGIN:VEVENT
SUMMARY:Filling Station
DTSTART;TZID=Europe/London:20260421T193000
DTEND;TZID=Europe/London:20260421T210000
DTSTAMP:20260423T054138Z
UID:10316511776796200.0achurchnearyou
CATEGORIES:
DESCRIPTION:The Filling Station is a new informal way of expressing the Ch
 ristian faith.  Using local\, mid-week\, monthly celebration meetings\, th
 e local church is strengthened and helped in many ways.  This is not a new
  church denomination\, it is a group of Christians who celebrate their fai
 th in God in an informal and authentic fashion.\n\nNot in August or Decemb
 er
LOCATION:Knockin Assembly Rooms
URL:http://www.thefillingstation.org.uk
END:VEVENT
BEGIN:VEVENT
SUMMARY:Sunday Worship
DTSTART;TZID=Europe/London:20260426T100000
DTEND;TZID=Europe/London:20260426T110000
DTSTAMP:20260423T054138Z
UID:7550511777194000.0achurchnearyou
CATEGORIES:
DESCRIPTION:A family Service of the Word
LOCATION:Maesbrook St John
URL:https://www.achurchnearyou.com/church/4340/service-and-events/events/7
 55051/
END:VEVENT
BEGIN:VEVENT
SUMMARY:Holy Communion
DTSTART;TZID=Europe/London:20260510T100000
DTEND;TZID=Europe/London:20260510T110000
DTSTAMP:20260423T054138Z
UID:7550521778403600.0achurchnearyou
CATEGORIES:
DESCRIPTION:Common Worship
LOCATION:Maesbrook St John
URL:https://www.kmkmm.org
END:VEVENT
BEGIN:VEVENT
SUMMARY:Filling Station
DTSTART;TZID=Europe/London:20260519T193000
DTEND;TZID=Europe/London:20260519T210000
DTSTAMP:20260423T054138Z
UID:10316511779215400.0achurchnearyou
CATEGORIES:
DESCRIPTION:The Filling Station is a new informal way of expressing the Ch
 ristian faith.  Using local\, mid-week\, monthly celebration meetings\, th
 e local church is strengthened and helped in many ways.  This is not a new
  church denomination\, it is a group of Christians who celebrate their fai
 th in God in an informal and authentic fashion.\n\nNot in August or Decemb
 er
LOCATION:Knockin Assembly Rooms
URL:http://www.thefillingstation.org.uk
END:VEVENT
BEGIN:VEVENT
SUMMARY:Sunday Worship
DTSTART;TZID=Europe/London:20260524T100000
DTEND;TZID=Europe/London:20260524T110000
DTSTAMP:20260423T054138Z
UID:7550511779613200.0achurchnearyou
CATEGORIES:
DESCRIPTION:A family Service of the Word
LOCATION:Maesbrook St John
URL:https://www.achurchnearyou.com/church/4340/service-and-events/events/7
 55051/
END:VEVENT
BEGIN:VEVENT
SUMMARY:Holy Communion
DTSTART;TZID=Europe/London:20260614T100000
DTEND;TZID=Europe/London:20260614T110000
DTSTAMP:20260423T054138Z
UID:7550521781427600.0achurchnearyou
CATEGORIES:
DESCRIPTION:Common Worship
LOCATION:Maesbrook St John
URL:https://www.kmkmm.org
END:VEVENT
BEGIN:VEVENT
SUMMARY:Filling Station
DTSTART;TZID=Europe/London:20260616T193000
DTEND;TZID=Europe/London:20260616T210000
DTSTAMP:20260423T054138Z
UID:10316511781634600.0achurchnearyou
CATEGORIES:
DESCRIPTION:The Filling Station is a new informal way of expressing the Ch
 ristian faith.  Using local\, mid-week\, monthly celebration meetings\, th
 e local church is strengthened and helped in many ways.  This is not a new
  church denomination\, it is a group of Christians who celebrate their fai
 th in God in an informal and authentic fashion.\n\nNot in August or Decemb
 er
LOCATION:Knockin Assembly Rooms
URL:http://www.thefillingstation.org.uk
END:VEVENT
BEGIN:VEVENT
SUMMARY:Sunday Worship
DTSTART;TZID=Europe/London:20260628T100000
DTEND;TZID=Europe/London:20260628T110000
DTSTAMP:20260423T054138Z
UID:7550511782637200.0achurchnearyou
CATEGORIES:
DESCRIPTION:A family Service of the Word
LOCATION:Maesbrook St John
URL:https://www.achurchnearyou.com/church/4340/service-and-events/events/7
 55051/
END:VEVENT
BEGIN:VEVENT
SUMMARY:Holy Communion
DTSTART;TZID=Europe/London:20260712T100000
DTEND;TZID=Europe/London:20260712T110000
DTSTAMP:20260423T054138Z
UID:7550521783846800.0achurchnearyou
CATEGORIES:
DESCRIPTION:Common Worship
LOCATION:Maesbrook St John
URL:https://www.kmkmm.org
END:VEVENT
BEGIN:VEVENT
SUMMARY:Filling Station
DTSTART;TZID=Europe/London:20260721T193000
DTEND;TZID=Europe/London:20260721T210000
DTSTAMP:20260423T054138Z
UID:10316511784658600.0achurchnearyou
CATEGORIES:
DESCRIPTION:The Filling Station is a new informal way of expressing the Ch
 ristian faith.  Using local\, mid-week\, monthly celebration meetings\, th
 e local church is strengthened and helped in many ways.  This is not a new
  church denomination\, it is a group of Christians who celebrate their fai
 th in God in an informal and authentic fashion.\n\nNot in August or Decemb
 er
LOCATION:Knockin Assembly Rooms
URL:http://www.thefillingstation.org.uk
END:VEVENT
BEGIN:VEVENT
SUMMARY:Sunday Worship
DTSTART;TZID=Europe/London:20260726T100000
DTEND;TZID=Europe/London:20260726T110000
DTSTAMP:20260423T054138Z
UID:7550511785056400.0achurchnearyou
CATEGORIES:
DESCRIPTION:A family Service of the Word
LOCATION:Maesbrook St John
URL:https://www.achurchnearyou.com/church/4340/service-and-events/events/7
 55051/
END:VEVENT
BEGIN:VEVENT
SUMMARY:Holy Communion
DTSTART;TZID=Europe/London:20260809T100000
DTEND;TZID=Europe/London:20260809T110000
DTSTAMP:20260423T054138Z
UID:7550521786266000.0achurchnearyou
CATEGORIES:
DESCRIPTION:Common Worship
LOCATION:Maesbrook St John
URL:https://www.kmkmm.org
END:VEVENT
BEGIN:VEVENT
SUMMARY:Filling Station
DTSTART;TZID=Europe/London:20260818T193000
DTEND;TZID=Europe/London:20260818T210000
DTSTAMP:20260423T054138Z
UID:10316511787077800.0achurchnearyou
CATEGORIES:
DESCRIPTION:The Filling Station is a new informal way of expressing the Ch
 ristian faith.  Using local\, mid-week\, monthly celebration meetings\, th
 e local church is strengthened and helped in many ways.  This is not a new
  church denomination\, it is a group of Christians who celebrate their fai
 th in God in an informal and authentic fashion.\n\nNot in August or Decemb
 er
LOCATION:Knockin Assembly Rooms
URL:http://www.thefillingstation.org.uk
END:VEVENT
BEGIN:VEVENT
SUMMARY:Sunday Worship
DTSTART;TZID=Europe/London:20260823T100000
DTEND;TZID=Europe/London:20260823T110000
DTSTAMP:20260423T054138Z
UID:7550511787475600.0achurchnearyou
CATEGORIES:
DESCRIPTION:A family Service of the Word
LOCATION:Maesbrook St John
URL:https://www.achurchnearyou.com/church/4340/service-and-events/events/7
 55051/
END:VEVENT
BEGIN:VEVENT
SUMMARY:Holy Communion
DTSTART;TZID=Europe/London:20260913T100000
DTEND;TZID=Europe/London:20260913T110000
DTSTAMP:20260423T054138Z
UID:7550521789290000.0achurchnearyou
CATEGORIES:
DESCRIPTION:Common Worship
LOCATION:Maesbrook St John
URL:https://www.kmkmm.org
END:VEVENT
BEGIN:VEVENT
SUMMARY:Filling Station
DTSTART;TZID=Europe/London:20260915T193000
DTEND;TZID=Europe/London:20260915T210000
DTSTAMP:20260423T054138Z
UID:10316511789497000.0achurchnearyou
CATEGORIES:
DESCRIPTION:The Filling Station is a new informal way of expressing the Ch
 ristian faith.  Using local\, mid-week\, monthly celebration meetings\, th
 e local church is strengthened and helped in many ways.  This is not a new
  church denomination\, it is a group of Christians who celebrate their fai
 th in God in an informal and authentic fashion.\n\nNot in August or Decemb
 er
LOCATION:Knockin Assembly Rooms
URL:http://www.thefillingstation.org.uk
END:VEVENT
BEGIN:VEVENT
SUMMARY:Sunday Worship
DTSTART;TZID=Europe/London:20260927T100000
DTEND;TZID=Europe/London:20260927T110000
DTSTAMP:20260423T054138Z
UID:7550511790499600.0achurchnearyou
CATEGORIES:
DESCRIPTION:A family Service of the Word
LOCATION:Maesbrook St John
URL:https://www.achurchnearyou.com/church/4340/service-and-events/events/7
 55051/
END:VEVENT
END:VCALENDAR
