BEGIN:VCALENDAR
VERSION:2.0
PRODID:-//achurchnearyou.com//eventfeed//EN
CALSCALE:GREGORIAN
METHOD:PUBLISH
X-WR-TIMEZONE:UTC
BEGIN:VEVENT
SUMMARY:Christingle Service
DTSTART:20251224T143000Z
DTEND:20251224T153000Z
DTSTAMP:20260421T121428Z
UID:12670252025-12-24 14:30:00+00:00achurchnearyou
CATEGORIES:
DESCRIPTION:Christingle Service for all ages
GEO:-1.08247;51.505173
LOCATION:Whitchurch Hill St. John the Baptist
URL:https://www.achurchnearyou.com/church/436/service-and-events/events/12
 67025/
END:VEVENT
END:VCALENDAR
