BEGIN:VCALENDAR
VERSION:2.0
PRODID:-//achurchnearyou.com//eventfeed//EN
CALSCALE:GREGORIAN
METHOD:PUBLISH
X-WR-TIMEZONE:UTC
BEGIN:VEVENT
SUMMARY:Christmas Day Holy Communion
DTSTART:20251225T093000Z
DTEND:20251225T103000Z
DTSTAMP:20260421T121340Z
UID:12670282025-12-25 09:30:00+00:00achurchnearyou
CATEGORIES:
DESCRIPTION:Service of Holy Communion with Christmas carols
GEO:-1.08247;51.505173
LOCATION:Whitchurch Hill St. John the Baptist
URL:https://www.achurchnearyou.com/church/436/service-and-events/events/12
 67028/
END:VEVENT
END:VCALENDAR
