BEGIN:VCALENDAR
VERSION:2.0
PRODID:-//achurchnearyou.com//eventfeed//EN
CALSCALE:GREGORIAN
METHOD:PUBLISH
X-WR-TIMEZONE:UTC
BEGIN:VEVENT
SUMMARY:Holy Communion
DTSTART:20260412T133000Z
DTEND:20260412T143000Z
DTSTAMP:20260421T202933Z
UID:13127052026-04-12 13:30:00+00:00achurchnearyou
CATEGORIES:
DESCRIPTION:A service of Holy Communion for 2nd Sunday of Easter
GEO:-1.962827;53.201872
LOCATION:St. Paul's\, Quarnford
URL:https://www.achurchnearyou.com/church/4377/service-and-events/events/1
 312705/
END:VEVENT
END:VCALENDAR
