BEGIN:VCALENDAR
VERSION:2.0
PRODID:-//achurchnearyou.com//eventfeed//EN
CALSCALE:GREGORIAN
METHOD:PUBLISH
X-WR-TIMEZONE:UTC
BEGIN:VEVENT
SUMMARY:Stations of the Cross
DTSTART;TZID=Europe/London:20260403T143000
DTEND;TZID=Europe/London:20260403T153000
DTSTAMP:20260421T183932Z
UID:12878871775223000.0achurchnearyou
CATEGORIES:
DESCRIPTION:A Good Friday service of "Stations of the Cross" for Holy Week
GEO:-1.962827;53.201872
LOCATION:St. Paul's\, Quarnford
URL:https://www.achurchnearyou.com/church/4377/service-and-events/events/1
 287887/
END:VEVENT
BEGIN:VEVENT
SUMMARY:Holy Communion
DTSTART;TZID=Europe/London:20260412T143000
DTEND;TZID=Europe/London:20260412T153000
DTSTAMP:20260421T183932Z
UID:13127051776000600.0achurchnearyou
CATEGORIES:
DESCRIPTION:A service of Holy Communion for 2nd Sunday of Easter
GEO:-1.962827;53.201872
LOCATION:St. Paul's\, Quarnford
URL:https://www.achurchnearyou.com/church/4377/service-and-events/events/1
 312705/
END:VEVENT
BEGIN:VEVENT
SUMMARY:Evening Prayer
DTSTART;TZID=Europe/London:20260426T143000
DTEND;TZID=Europe/London:20260426T153000
DTSTAMP:20260421T183932Z
UID:13127061777210200.0achurchnearyou
CATEGORIES:
DESCRIPTION:An afternoon service of Evening Prayer for 4th Sunday of Easte
 r
GEO:-1.962827;53.201872
LOCATION:St. Paul's\, Quarnford
URL:https://www.achurchnearyou.com/church/4377/service-and-events/events/1
 312706/
END:VEVENT
END:VCALENDAR
