BEGIN:VCALENDAR
VERSION:2.0
PRODID:-//achurchnearyou.com//eventfeed//EN
CALSCALE:GREGORIAN
METHOD:PUBLISH
X-WR-TIMEZONE:UTC
BEGIN:VEVENT
SUMMARY:Echoes of Swing\, Big Band in Concert
DTSTART:20250627T190000Z
DTEND:20250627T210000Z
DTSTAMP:20260424T095558Z
UID:11846032025-06-27 19:00:00+00:00achurchnearyou
CATEGORIES:
DESCRIPTION:Echoes of Swing\, Big Band in Concert.\nSpecial Charity concer
 t raising funds to sponsor ASC Foundation Malawi School Project and Dinton
  Church.
GEO:-0.889565;51.793073
LOCATION:SS Peter and Paul
URL:https://wegottickets.com/event/651357
END:VEVENT
END:VCALENDAR
