BEGIN:VCALENDAR
VERSION:2.0
PRODID:-//achurchnearyou.com//eventfeed//EN
CALSCALE:GREGORIAN
METHOD:PUBLISH
X-WR-TIMEZONE:UTC
BEGIN:VEVENT
SUMMARY:United Parish Service
DTSTART:20250427T093000Z
DTEND:20250427T103000Z
DTSTAMP:20260419T203024Z
UID:11901952025-04-27 09:30:00+00:00achurchnearyou
CATEGORIES:
DESCRIPTION:A service where all of our churches join together to worship
LOCATION:St John's Church\, Lawley
URL:https://www.achurchnearyou.com/church/4418/service-and-events/events/1
 190195/
END:VEVENT
END:VCALENDAR
