BEGIN:VCALENDAR
VERSION:2.0
PRODID:-//achurchnearyou.com//eventfeed//EN
CALSCALE:GREGORIAN
METHOD:PUBLISH
X-WR-TIMEZONE:UTC
BEGIN:VEVENT
SUMMARY:Ash Wednesday Service
DTSTART:20250305T090000Z
DTEND:20250305T094500Z
DTSTAMP:20260425T135911Z
UID:11635142025-03-05 09:00:00+00:00achurchnearyou
CATEGORIES:
DESCRIPTION:Holy Communion with Imposition of Ashes
GEO:-0.642585;51.613074
LOCATION:St. Michael & All Angels
URL:https://www.achurchnearyou.com/church/445/service-and-events/events/11
 63514/
END:VEVENT
END:VCALENDAR
