BEGIN:VCALENDAR
VERSION:2.0
PRODID:-//achurchnearyou.com//eventfeed//EN
CALSCALE:GREGORIAN
METHOD:PUBLISH
X-WR-TIMEZONE:UTC
BEGIN:VEVENT
SUMMARY:Veneration of the Cross
DTSTART:20250418T083000Z
DTEND:20250418T093000Z
DTSTAMP:20260425T154216Z
UID:11682742025-04-18 08:30:00+00:00achurchnearyou
CATEGORIES:
DESCRIPTION:Service of Veneration of the Cross
GEO:-0.642585;51.613074
LOCATION:St. Michael & All Angels
URL:https://www.achurchnearyou.com/church/445/service-and-events/events/11
 68274/
END:VEVENT
END:VCALENDAR
