BEGIN:VCALENDAR
VERSION:2.0
PRODID:-//achurchnearyou.com//eventfeed//EN
CALSCALE:GREGORIAN
METHOD:PUBLISH
X-WR-TIMEZONE:UTC
BEGIN:VEVENT
SUMMARY:Concert
DTSTART:20250413T170000Z
DTEND:20250413T183000Z
DTSTAMP:20260425T190509Z
UID:11866002025-04-13 17:00:00+00:00achurchnearyou
CATEGORIES:
DESCRIPTION:The Shelfield Singers
GEO:-1.960526;52.607503
LOCATION:Rushall Christ the King
URL:https://www.achurchnearyou.com/church/4463/service-and-events/events/1
 186600/
END:VEVENT
END:VCALENDAR
