BEGIN:VCALENDAR
VERSION:2.0
PRODID:-//achurchnearyou.com//eventfeed//EN
CALSCALE:GREGORIAN
METHOD:PUBLISH
X-WR-TIMEZONE:UTC
BEGIN:VEVENT
SUMMARY:SERVICES AT St. RUFIN CHURCH\, BURSTON.
DTSTART;TZID=Europe/London:20260426T111500
DTEND;TZID=Europe/London:20260426T121500
DTSTAMP:20260423T182414Z
UID:7465252026-04-26 11:15:00+01:00achurchnearyou
CATEGORIES:
DESCRIPTION:OUR NEXT SERVICE IS:\n26th April BCP Matins at 11-15am\, All S
 aints' Church\, Sandon\, led by Andy Cooper.\n\nOUR OTHER SERVICES:\n\n\nP
 lease click on "Church Services Across Mid-Trent Team" to see our service 
 rotas.\nWe try to make our church services as friendly as possible. Please
  don’t worry about getting things ‘wrong’. Even if they notice\, peo
 ple won’t mind. At Communion services\, everyone is equally welcome\, wh
 ether you feel able to share the bread and wine or prefer just to stay sea
 ted for a time of quiet. Finally\, we are interested in you\, not what you
  are wearing.
GEO:-2.09797;52.867714
LOCATION:St. Rufin's Church\, Burston\, part of the Mid-Trent Churches Tea
 m
URL:https://www.achurchnearyou.com/church/4473/service-and-events/events/7
 46525/
END:VEVENT
END:VCALENDAR
