BEGIN:VCALENDAR
VERSION:2.0
PRODID:-//achurchnearyou.com//eventfeed//EN
CALSCALE:GREGORIAN
METHOD:PUBLISH
X-WR-TIMEZONE:UTC
BEGIN:VEVENT
SUMMARY:Traditional Carol Service
DTSTART:20251221T160000Z
DTEND:20251221T171500Z
DTSTAMP:20260419T170930Z
UID:12723702025-12-21 16:00:00+00:00achurchnearyou
CATEGORIES:
DESCRIPTION:Through scripture and song\, we retell the story of God’s pr
 omise and its fulfilment in the birth of Jesus Christ. As familiar carols 
 are sung and ancient words are heard\, we are invited to reflect on the my
 stery\, hope\, and joy of Christmas. All are warmly welcome to share in th
 is act of worship.
GEO:-0.701937;51.509161
LOCATION:St Michael's Church
URL:https://www.achurchnearyou.com/church/45/service-and-events/events/127
 2370/
END:VEVENT
END:VCALENDAR
