BEGIN:VCALENDAR
VERSION:2.0
PRODID:-//achurchnearyou.com//eventfeed//EN
CALSCALE:GREGORIAN
METHOD:PUBLISH
X-WR-TIMEZONE:UTC
BEGIN:VEVENT
SUMMARY:Good Friday Walk
DTSTART:20260403T090000Z
DTEND:20260403T100000Z
DTSTAMP:20260421T124815Z
UID:13179942026-04-03 09:00:00+00:00achurchnearyou
CATEGORIES:
DESCRIPTION:There will be a walk around the village starting from the Post
  Office at 10am followed by a Reflective service in St. Luke's at 10.30
GEO:-2.189113;52.940787
LOCATION:St. Luke's Church\, Tittensor
URL:https://www.achurchnearyou.com/church/4551/service-and-events/events/1
 317994/
END:VEVENT
END:VCALENDAR
