BEGIN:VCALENDAR
VERSION:2.0
PRODID:-//achurchnearyou.com//eventfeed//EN
CALSCALE:GREGORIAN
METHOD:PUBLISH
X-WR-TIMEZONE:UTC
BEGIN:VEVENT
SUMMARY:Ash Wednesday - Area Service
DTSTART:20250305T193000Z
DTEND:20250305T203000Z
DTSTAMP:20260419T153625Z
UID:11516632025-03-05 19:30:00+00:00achurchnearyou
CATEGORIES:
DESCRIPTION:Come and join us at St Mary & All Saints' Church in Checkley f
 or our Ash Wednesday Service
LOCATION:Checkley St. Mary and All Saints
URL:https://www.achurchnearyou.com/church/4573/service-and-events/events/1
 151663/
END:VEVENT
END:VCALENDAR
