BEGIN:VCALENDAR
VERSION:2.0
PRODID:-//achurchnearyou.com//eventfeed//EN
CALSCALE:GREGORIAN
METHOD:PUBLISH
X-WR-TIMEZONE:UTC
BEGIN:VEVENT
SUMMARY:Annual Summer Fayre
DTSTART:20250628T120000Z
DTEND:20250628T150000Z
DTSTAMP:20260425T233948Z
UID:12056462025-06-28 12:00:00+00:00achurchnearyou
CATEGORIES:
DESCRIPTION:St John’s Church ‘The Heart of the Wood’ Summer Fayre 
 😊\n\nWhy not join us for plenty of fun and hopefully Sun ☀️ \n\nHom
 e made cakes\, BBQ and refreshments!\n children's toys\, bric a brac\, Fan
 tastic raffle prizes\, Tombola’s\, fun games and much more!!!\n \nAdding
  to all the fun alongside the many and varied stalls\, this year we have a
  band playing live. The Black Country Guys play a mix of party and rock co
 vers from across the decades\, featuring pieces by The Beatles\, Kinks and
  Rolling Stones\, plus many more.   \n\nhttps://www.gofundme.com/f/roof-an
 d-boiler-appeal-for-the-heart-of-the-wood?utm_campaign=natman_sharesheet_d
 ash&utm_medium=customer&utm_source=copy_link&attribution_id=sl:599945aa-93
 02-4650-a929-6b6cf673fb7d \n\nAll proceeds this year will go towards the R
 oof and Boiler Appeal 🙏
GEO:-1.931803;52.626954
LOCATION:St John's Church
URL:https://www.achurchnearyou.com/church/4584/service-and-events/events/1
 205646/
END:VEVENT
END:VCALENDAR
