BEGIN:VCALENDAR
VERSION:2.0
PRODID:-//achurchnearyou.com//eventfeed//EN
CALSCALE:GREGORIAN
METHOD:PUBLISH
X-WR-TIMEZONE:UTC
BEGIN:VEVENT
SUMMARY:Katie Lou 60s and 70s night
DTSTART:20260206T200000Z
DTEND:20260206T220000Z
DTSTAMP:20260424T215326Z
UID:12803582026-02-06 20:00:00+00:00achurchnearyou
CATEGORIES:
DESCRIPTION:Katie Lou is coming back to St John's  Church to perform a nig
 ht of 60s and 70s classic pop hits.\n\nThis is the re-scheduled concert th
 at was initially postponed when Katie-Lou broke her hip in an accident. Sh
 e is back fit and ready to roar into action!\n\nThe show starts at 8pm. Do
 ors open at 7.15.\n\nTickets are £5.\n\nAvailable from The Church office 
 phone: 01543 372884 or Email: stjohnschurchwalsallwood@btinternet.com\nOr 
 Richard for tickets\; either on rwrluton1@outlook.com or 07597578904
GEO:-1.931803;52.626954
LOCATION:St John's Church
URL:https://www.achurchnearyou.com/church/4584/service-and-events/events/1
 280358/
END:VEVENT
END:VCALENDAR
