BEGIN:VCALENDAR
VERSION:2.0
PRODID:-//achurchnearyou.com//eventfeed//EN
CALSCALE:GREGORIAN
METHOD:PUBLISH
X-WR-TIMEZONE:UTC
BEGIN:VEVENT
SUMMARY:Lent Course
DTSTART;TZID=Europe/London:20240221T130000
DTEND;TZID=Europe/London:20240221T140000
DTSTAMP:20260422T085202Z
UID:10291722024-02-21 13:00:00+00:00achurchnearyou
CATEGORIES:
DESCRIPTION:5 weeks\, 1 hour per week following parts of the Church of Eng
 land Watch and Pray resource and sessions from "Church Unleashed"
GEO:-2.000338;52.514517
LOCATION:West Bromwich Good Shepherd with S.John\, The Lyng
URL:https://www.achurchnearyou.com/church/4606/service-and-events/events/1
 029172/
END:VEVENT
BEGIN:VEVENT
SUMMARY:Lent Course
DTSTART;TZID=Europe/London:20240228T130000
DTEND;TZID=Europe/London:20240228T140000
DTSTAMP:20260422T085202Z
UID:10291722024-02-28 13:00:00+00:00achurchnearyou
CATEGORIES:
DESCRIPTION:5 weeks\, 1 hour per week following parts of the Church of Eng
 land Watch and Pray resource and sessions from "Church Unleashed"
GEO:-2.000338;52.514517
LOCATION:West Bromwich Good Shepherd with S.John\, The Lyng
URL:https://www.achurchnearyou.com/church/4606/service-and-events/events/1
 029172/
END:VEVENT
BEGIN:VEVENT
SUMMARY:Lent Course
DTSTART;TZID=Europe/London:20240306T130000
DTEND;TZID=Europe/London:20240306T140000
DTSTAMP:20260422T085202Z
UID:10291722024-03-06 13:00:00+00:00achurchnearyou
CATEGORIES:
DESCRIPTION:5 weeks\, 1 hour per week following parts of the Church of Eng
 land Watch and Pray resource and sessions from "Church Unleashed"
GEO:-2.000338;52.514517
LOCATION:West Bromwich Good Shepherd with S.John\, The Lyng
URL:https://www.achurchnearyou.com/church/4606/service-and-events/events/1
 029172/
END:VEVENT
BEGIN:VEVENT
SUMMARY:Lent Course
DTSTART;TZID=Europe/London:20240313T130000
DTEND;TZID=Europe/London:20240313T140000
DTSTAMP:20260422T085202Z
UID:10291722024-03-13 13:00:00+00:00achurchnearyou
CATEGORIES:
DESCRIPTION:5 weeks\, 1 hour per week following parts of the Church of Eng
 land Watch and Pray resource and sessions from "Church Unleashed"
GEO:-2.000338;52.514517
LOCATION:West Bromwich Good Shepherd with S.John\, The Lyng
URL:https://www.achurchnearyou.com/church/4606/service-and-events/events/1
 029172/
END:VEVENT
BEGIN:VEVENT
SUMMARY:Lent Course
DTSTART;TZID=Europe/London:20240320T130000
DTEND;TZID=Europe/London:20240320T140000
DTSTAMP:20260422T085202Z
UID:10291722024-03-20 13:00:00+00:00achurchnearyou
CATEGORIES:
DESCRIPTION:5 weeks\, 1 hour per week following parts of the Church of Eng
 land Watch and Pray resource and sessions from "Church Unleashed"
GEO:-2.000338;52.514517
LOCATION:West Bromwich Good Shepherd with S.John\, The Lyng
URL:https://www.achurchnearyou.com/church/4606/service-and-events/events/1
 029172/
END:VEVENT
END:VCALENDAR
