BEGIN:VCALENDAR
VERSION:2.0
PRODID:-//achurchnearyou.com//eventfeed//EN
CALSCALE:GREGORIAN
METHOD:PUBLISH
X-WR-TIMEZONE:UTC
BEGIN:VEVENT
SUMMARY:Remembrance Service .Sunday 9th November 2025 at 10.50am In St Gil
 es Church
DTSTART:20251109T104500Z
DTEND:20251109T114500Z
DTSTAMP:20260424T172317Z
UID:12423022025-11-09 10:45:00+00:00achurchnearyou
CATEGORIES:
DESCRIPTION:Remembrance Sunday Holy  Service \nThey shall grow not old\, a
 s we that are left grow old:\nAge shall not weary them\, nor the years con
 demn.\nAt the going down of the sun and in the morning\nWe will remember t
 hem.
GEO:-2.050033;52.584108
LOCATION:St Giles Church Willenhall
URL:https://www.achurchnearyou.com/church/4634/service-and-events/events/1
 242302/
END:VEVENT
END:VCALENDAR
