BEGIN:VCALENDAR
VERSION:2.0
PRODID:-//achurchnearyou.com//eventfeed//EN
CALSCALE:GREGORIAN
METHOD:PUBLISH
X-WR-TIMEZONE:UTC
BEGIN:VEVENT
SUMMARY:Summer lunch trip to Oakgate Tea room and nursery\, Ellerdine
DTSTART:20250805T103000Z
DTEND:20250805T130000Z
DTSTAMP:20260420T080627Z
UID:12152852025-08-05 10:30:00+00:00achurchnearyou
CATEGORIES:
DESCRIPTION:All are welcome to join us on a summer trip to Oakgate for lun
 ch and a look around the lovely gardens and shop.  Lifts are available.  P
 lease contact Chris on 07930245773 if you would like to join us.
GEO:-2.458837;52.701411
LOCATION:Wombridge Parish Church
URL:https://www.achurchnearyou.com/church/4656/service-and-events/events/1
 215285/
END:VEVENT
END:VCALENDAR
