BEGIN:VCALENDAR
VERSION:2.0
PRODID:-//achurchnearyou.com//eventfeed//EN
CALSCALE:GREGORIAN
METHOD:PUBLISH
X-WR-TIMEZONE:UTC
BEGIN:VEVENT
SUMMARY:Harvest Supper and Choir Concert
DTSTART:20251011T170000Z
DTEND:20251011T193000Z
DTSTAMP:20260420T043414Z
UID:12251442025-10-11 17:00:00+00:00achurchnearyou
CATEGORIES:
DESCRIPTION:On Saturday 11th October\, it is our Harvest Supper of baked p
 otatoes with delicious fillings\, coffee\, tea and cake\, followed by a co
 ncert by the Hadley & District Orpheus Male Voice Choir - all are welcome\
 , tickets are £8 for adults and £4 for children
GEO:-2.458837;52.701411
LOCATION:Wombridge Parish Church
URL:https://www.achurchnearyou.com/church/4656/service-and-events/events/1
 225144/
END:VEVENT
END:VCALENDAR
