BEGIN:VCALENDAR
VERSION:2.0
PRODID:-//achurchnearyou.com//eventfeed//EN
CALSCALE:GREGORIAN
METHOD:PUBLISH
X-WR-TIMEZONE:UTC
BEGIN:VEVENT
SUMMARY:Oakengates Christmas Lights Switch On
DTSTART:20251129T140000Z
DTEND:20251129T190000Z
DTSTAMP:20260420T030027Z
UID:12408462025-11-29 14:00:00+00:00achurchnearyou
CATEGORIES:
DESCRIPTION:Wombridge Church are running a stall at the switching on of th
 e Oakengates Christmas lights on 29th November\; please come along and say
  hello\, we have free calendars to give out.
LOCATION:Oakengates
URL:https://www.oakengates-tc.gov.uk/oakengates-christmas-lights-switch-on
 /
END:VEVENT
END:VCALENDAR
