BEGIN:VCALENDAR
VERSION:2.0
PRODID:-//achurchnearyou.com//eventfeed//EN
CALSCALE:GREGORIAN
METHOD:PUBLISH
X-WR-TIMEZONE:UTC
BEGIN:VEVENT
SUMMARY:Coffee Morning
DTSTART;TZID=Europe/London:20260506T103000
DTEND;TZID=Europe/London:20260506T120000
DTSTAMP:20260420T082410Z
UID:2147992026-05-06 10:30:00+01:00achurchnearyou
CATEGORIES:
DESCRIPTION:Come and have a free coffee/tea and a piece of homemade cake. 
  In the Parish Room.
LOCATION:The Parish Room
URL:https://www.achurchnearyou.com/church/4665/service-and-events/events/2
 14799/
END:VEVENT
BEGIN:VEVENT
SUMMARY:Coffee Morning
DTSTART;TZID=Europe/London:20260603T103000
DTEND;TZID=Europe/London:20260603T120000
DTSTAMP:20260420T082410Z
UID:2147992026-06-03 10:30:00+01:00achurchnearyou
CATEGORIES:
DESCRIPTION:Come and have a free coffee/tea and a piece of homemade cake. 
  In the Parish Room.
LOCATION:The Parish Room
URL:https://www.achurchnearyou.com/church/4665/service-and-events/events/2
 14799/
END:VEVENT
BEGIN:VEVENT
SUMMARY:Coffee Morning
DTSTART;TZID=Europe/London:20260701T103000
DTEND;TZID=Europe/London:20260701T120000
DTSTAMP:20260420T082410Z
UID:2147992026-07-01 10:30:00+01:00achurchnearyou
CATEGORIES:
DESCRIPTION:Come and have a free coffee/tea and a piece of homemade cake. 
  In the Parish Room.
LOCATION:The Parish Room
URL:https://www.achurchnearyou.com/church/4665/service-and-events/events/2
 14799/
END:VEVENT
BEGIN:VEVENT
SUMMARY:Coffee Morning
DTSTART;TZID=Europe/London:20260805T103000
DTEND;TZID=Europe/London:20260805T120000
DTSTAMP:20260420T082410Z
UID:2147992026-08-05 10:30:00+01:00achurchnearyou
CATEGORIES:
DESCRIPTION:Come and have a free coffee/tea and a piece of homemade cake. 
  In the Parish Room.
LOCATION:The Parish Room
URL:https://www.achurchnearyou.com/church/4665/service-and-events/events/2
 14799/
END:VEVENT
BEGIN:VEVENT
SUMMARY:Coffee Morning
DTSTART;TZID=Europe/London:20260902T103000
DTEND;TZID=Europe/London:20260902T120000
DTSTAMP:20260420T082410Z
UID:2147992026-09-02 10:30:00+01:00achurchnearyou
CATEGORIES:
DESCRIPTION:Come and have a free coffee/tea and a piece of homemade cake. 
  In the Parish Room.
LOCATION:The Parish Room
URL:https://www.achurchnearyou.com/church/4665/service-and-events/events/2
 14799/
END:VEVENT
BEGIN:VEVENT
SUMMARY:Coffee Morning
DTSTART;TZID=Europe/London:20261007T103000
DTEND;TZID=Europe/London:20261007T120000
DTSTAMP:20260420T082410Z
UID:2147992026-10-07 10:30:00+01:00achurchnearyou
CATEGORIES:
DESCRIPTION:Come and have a free coffee/tea and a piece of homemade cake. 
  In the Parish Room.
LOCATION:The Parish Room
URL:https://www.achurchnearyou.com/church/4665/service-and-events/events/2
 14799/
END:VEVENT
BEGIN:VEVENT
SUMMARY:Coffee Morning
DTSTART;TZID=Europe/London:20261104T103000
DTEND;TZID=Europe/London:20261104T120000
DTSTAMP:20260420T082410Z
UID:2147992026-11-04 10:30:00+00:00achurchnearyou
CATEGORIES:
DESCRIPTION:Come and have a free coffee/tea and a piece of homemade cake. 
  In the Parish Room.
LOCATION:The Parish Room
URL:https://www.achurchnearyou.com/church/4665/service-and-events/events/2
 14799/
END:VEVENT
BEGIN:VEVENT
SUMMARY:Coffee Morning
DTSTART;TZID=Europe/London:20261202T103000
DTEND;TZID=Europe/London:20261202T120000
DTSTAMP:20260420T082410Z
UID:2147992026-12-02 10:30:00+00:00achurchnearyou
CATEGORIES:
DESCRIPTION:Come and have a free coffee/tea and a piece of homemade cake. 
  In the Parish Room.
LOCATION:The Parish Room
URL:https://www.achurchnearyou.com/church/4665/service-and-events/events/2
 14799/
END:VEVENT
BEGIN:VEVENT
SUMMARY:Coffee Morning
DTSTART;TZID=Europe/London:20270106T103000
DTEND;TZID=Europe/London:20270106T120000
DTSTAMP:20260420T082410Z
UID:2147992027-01-06 10:30:00+00:00achurchnearyou
CATEGORIES:
DESCRIPTION:Come and have a free coffee/tea and a piece of homemade cake. 
  In the Parish Room.
LOCATION:The Parish Room
URL:https://www.achurchnearyou.com/church/4665/service-and-events/events/2
 14799/
END:VEVENT
BEGIN:VEVENT
SUMMARY:Coffee Morning
DTSTART;TZID=Europe/London:20270203T103000
DTEND;TZID=Europe/London:20270203T120000
DTSTAMP:20260420T082410Z
UID:2147992027-02-03 10:30:00+00:00achurchnearyou
CATEGORIES:
DESCRIPTION:Come and have a free coffee/tea and a piece of homemade cake. 
  In the Parish Room.
LOCATION:The Parish Room
URL:https://www.achurchnearyou.com/church/4665/service-and-events/events/2
 14799/
END:VEVENT
BEGIN:VEVENT
SUMMARY:Coffee Morning
DTSTART;TZID=Europe/London:20270303T103000
DTEND;TZID=Europe/London:20270303T120000
DTSTAMP:20260420T082410Z
UID:2147992027-03-03 10:30:00+00:00achurchnearyou
CATEGORIES:
DESCRIPTION:Come and have a free coffee/tea and a piece of homemade cake. 
  In the Parish Room.
LOCATION:The Parish Room
URL:https://www.achurchnearyou.com/church/4665/service-and-events/events/2
 14799/
END:VEVENT
BEGIN:VEVENT
SUMMARY:Coffee Morning
DTSTART;TZID=Europe/London:20270407T103000
DTEND;TZID=Europe/London:20270407T120000
DTSTAMP:20260420T082410Z
UID:2147992027-04-07 10:30:00+01:00achurchnearyou
CATEGORIES:
DESCRIPTION:Come and have a free coffee/tea and a piece of homemade cake. 
  In the Parish Room.
LOCATION:The Parish Room
URL:https://www.achurchnearyou.com/church/4665/service-and-events/events/2
 14799/
END:VEVENT
END:VCALENDAR
