BEGIN:VCALENDAR
VERSION:2.0
PRODID:-//achurchnearyou.com//eventfeed//EN
CALSCALE:GREGORIAN
METHOD:PUBLISH
X-WR-TIMEZONE:UTC
BEGIN:VEVENT
SUMMARY:Morning Worship
DTSTART;TZID=Europe/London:20260426T111500
DTEND;TZID=Europe/London:20260426T120500
DTSTAMP:20260420T054943Z
UID:747062026-04-26 11:15:00+01:00achurchnearyou
CATEGORIES:
DESCRIPTION:Come along and join us for a service of Morning Worship that i
 ncludes Hymns\, Readings\, Prayers and a reflection. Stay afterwards and m
 eet and chat with others as we enjoy a cuppa and take our choice from the 
 selection of biscuits (and sometimes\, cake).
GEO:-2.557101;52.704802
LOCATION:Wrockwardine S.Peter
URL:https://www.achurchnearyou.com/church/4666/service-and-events/events/7
 4706/
END:VEVENT
BEGIN:VEVENT
SUMMARY:Morning Worship
DTSTART;TZID=Europe/London:20260510T111500
DTEND;TZID=Europe/London:20260510T120500
DTSTAMP:20260420T054943Z
UID:747062026-05-10 11:15:00+01:00achurchnearyou
CATEGORIES:
DESCRIPTION:Come along and join us for a service of Morning Worship that i
 ncludes Hymns\, Readings\, Prayers and a reflection. Stay afterwards and m
 eet and chat with others as we enjoy a cuppa and take our choice from the 
 selection of biscuits (and sometimes\, cake).
GEO:-2.557101;52.704802
LOCATION:Wrockwardine S.Peter
URL:https://www.achurchnearyou.com/church/4666/service-and-events/events/7
 4706/
END:VEVENT
BEGIN:VEVENT
SUMMARY:Morning Worship
DTSTART;TZID=Europe/London:20260524T111500
DTEND;TZID=Europe/London:20260524T120500
DTSTAMP:20260420T054943Z
UID:747062026-05-24 11:15:00+01:00achurchnearyou
CATEGORIES:
DESCRIPTION:Come along and join us for a service of Morning Worship that i
 ncludes Hymns\, Readings\, Prayers and a reflection. Stay afterwards and m
 eet and chat with others as we enjoy a cuppa and take our choice from the 
 selection of biscuits (and sometimes\, cake).
GEO:-2.557101;52.704802
LOCATION:Wrockwardine S.Peter
URL:https://www.achurchnearyou.com/church/4666/service-and-events/events/7
 4706/
END:VEVENT
BEGIN:VEVENT
SUMMARY:Morning Worship
DTSTART;TZID=Europe/London:20260614T111500
DTEND;TZID=Europe/London:20260614T120500
DTSTAMP:20260420T054943Z
UID:747062026-06-14 11:15:00+01:00achurchnearyou
CATEGORIES:
DESCRIPTION:Come along and join us for a service of Morning Worship that i
 ncludes Hymns\, Readings\, Prayers and a reflection. Stay afterwards and m
 eet and chat with others as we enjoy a cuppa and take our choice from the 
 selection of biscuits (and sometimes\, cake).
GEO:-2.557101;52.704802
LOCATION:Wrockwardine S.Peter
URL:https://www.achurchnearyou.com/church/4666/service-and-events/events/7
 4706/
END:VEVENT
BEGIN:VEVENT
SUMMARY:Morning Worship
DTSTART;TZID=Europe/London:20260628T111500
DTEND;TZID=Europe/London:20260628T120500
DTSTAMP:20260420T054943Z
UID:747062026-06-28 11:15:00+01:00achurchnearyou
CATEGORIES:
DESCRIPTION:Come along and join us for a service of Morning Worship that i
 ncludes Hymns\, Readings\, Prayers and a reflection. Stay afterwards and m
 eet and chat with others as we enjoy a cuppa and take our choice from the 
 selection of biscuits (and sometimes\, cake).
GEO:-2.557101;52.704802
LOCATION:Wrockwardine S.Peter
URL:https://www.achurchnearyou.com/church/4666/service-and-events/events/7
 4706/
END:VEVENT
BEGIN:VEVENT
SUMMARY:Morning Worship
DTSTART;TZID=Europe/London:20260712T111500
DTEND;TZID=Europe/London:20260712T120500
DTSTAMP:20260420T054943Z
UID:747062026-07-12 11:15:00+01:00achurchnearyou
CATEGORIES:
DESCRIPTION:Come along and join us for a service of Morning Worship that i
 ncludes Hymns\, Readings\, Prayers and a reflection. Stay afterwards and m
 eet and chat with others as we enjoy a cuppa and take our choice from the 
 selection of biscuits (and sometimes\, cake).
GEO:-2.557101;52.704802
LOCATION:Wrockwardine S.Peter
URL:https://www.achurchnearyou.com/church/4666/service-and-events/events/7
 4706/
END:VEVENT
BEGIN:VEVENT
SUMMARY:Morning Worship
DTSTART;TZID=Europe/London:20260726T111500
DTEND;TZID=Europe/London:20260726T120500
DTSTAMP:20260420T054943Z
UID:747062026-07-26 11:15:00+01:00achurchnearyou
CATEGORIES:
DESCRIPTION:Come along and join us for a service of Morning Worship that i
 ncludes Hymns\, Readings\, Prayers and a reflection. Stay afterwards and m
 eet and chat with others as we enjoy a cuppa and take our choice from the 
 selection of biscuits (and sometimes\, cake).
GEO:-2.557101;52.704802
LOCATION:Wrockwardine S.Peter
URL:https://www.achurchnearyou.com/church/4666/service-and-events/events/7
 4706/
END:VEVENT
BEGIN:VEVENT
SUMMARY:Morning Worship
DTSTART;TZID=Europe/London:20260809T111500
DTEND;TZID=Europe/London:20260809T120500
DTSTAMP:20260420T054943Z
UID:747062026-08-09 11:15:00+01:00achurchnearyou
CATEGORIES:
DESCRIPTION:Come along and join us for a service of Morning Worship that i
 ncludes Hymns\, Readings\, Prayers and a reflection. Stay afterwards and m
 eet and chat with others as we enjoy a cuppa and take our choice from the 
 selection of biscuits (and sometimes\, cake).
GEO:-2.557101;52.704802
LOCATION:Wrockwardine S.Peter
URL:https://www.achurchnearyou.com/church/4666/service-and-events/events/7
 4706/
END:VEVENT
BEGIN:VEVENT
SUMMARY:Morning Worship
DTSTART;TZID=Europe/London:20260823T111500
DTEND;TZID=Europe/London:20260823T120500
DTSTAMP:20260420T054943Z
UID:747062026-08-23 11:15:00+01:00achurchnearyou
CATEGORIES:
DESCRIPTION:Come along and join us for a service of Morning Worship that i
 ncludes Hymns\, Readings\, Prayers and a reflection. Stay afterwards and m
 eet and chat with others as we enjoy a cuppa and take our choice from the 
 selection of biscuits (and sometimes\, cake).
GEO:-2.557101;52.704802
LOCATION:Wrockwardine S.Peter
URL:https://www.achurchnearyou.com/church/4666/service-and-events/events/7
 4706/
END:VEVENT
BEGIN:VEVENT
SUMMARY:Morning Worship
DTSTART;TZID=Europe/London:20260913T111500
DTEND;TZID=Europe/London:20260913T120500
DTSTAMP:20260420T054943Z
UID:747062026-09-13 11:15:00+01:00achurchnearyou
CATEGORIES:
DESCRIPTION:Come along and join us for a service of Morning Worship that i
 ncludes Hymns\, Readings\, Prayers and a reflection. Stay afterwards and m
 eet and chat with others as we enjoy a cuppa and take our choice from the 
 selection of biscuits (and sometimes\, cake).
GEO:-2.557101;52.704802
LOCATION:Wrockwardine S.Peter
URL:https://www.achurchnearyou.com/church/4666/service-and-events/events/7
 4706/
END:VEVENT
BEGIN:VEVENT
SUMMARY:Morning Worship
DTSTART;TZID=Europe/London:20260927T111500
DTEND;TZID=Europe/London:20260927T120500
DTSTAMP:20260420T054943Z
UID:747062026-09-27 11:15:00+01:00achurchnearyou
CATEGORIES:
DESCRIPTION:Come along and join us for a service of Morning Worship that i
 ncludes Hymns\, Readings\, Prayers and a reflection. Stay afterwards and m
 eet and chat with others as we enjoy a cuppa and take our choice from the 
 selection of biscuits (and sometimes\, cake).
GEO:-2.557101;52.704802
LOCATION:Wrockwardine S.Peter
URL:https://www.achurchnearyou.com/church/4666/service-and-events/events/7
 4706/
END:VEVENT
BEGIN:VEVENT
SUMMARY:Morning Worship
DTSTART;TZID=Europe/London:20261011T111500
DTEND;TZID=Europe/London:20261011T120500
DTSTAMP:20260420T054943Z
UID:747062026-10-11 11:15:00+01:00achurchnearyou
CATEGORIES:
DESCRIPTION:Come along and join us for a service of Morning Worship that i
 ncludes Hymns\, Readings\, Prayers and a reflection. Stay afterwards and m
 eet and chat with others as we enjoy a cuppa and take our choice from the 
 selection of biscuits (and sometimes\, cake).
GEO:-2.557101;52.704802
LOCATION:Wrockwardine S.Peter
URL:https://www.achurchnearyou.com/church/4666/service-and-events/events/7
 4706/
END:VEVENT
BEGIN:VEVENT
SUMMARY:Morning Worship
DTSTART;TZID=Europe/London:20261025T111500
DTEND;TZID=Europe/London:20261025T120500
DTSTAMP:20260420T054943Z
UID:747062026-10-25 11:15:00+00:00achurchnearyou
CATEGORIES:
DESCRIPTION:Come along and join us for a service of Morning Worship that i
 ncludes Hymns\, Readings\, Prayers and a reflection. Stay afterwards and m
 eet and chat with others as we enjoy a cuppa and take our choice from the 
 selection of biscuits (and sometimes\, cake).
GEO:-2.557101;52.704802
LOCATION:Wrockwardine S.Peter
URL:https://www.achurchnearyou.com/church/4666/service-and-events/events/7
 4706/
END:VEVENT
BEGIN:VEVENT
SUMMARY:Morning Worship
DTSTART;TZID=Europe/London:20261108T111500
DTEND;TZID=Europe/London:20261108T120500
DTSTAMP:20260420T054943Z
UID:747062026-11-08 11:15:00+00:00achurchnearyou
CATEGORIES:
DESCRIPTION:Come along and join us for a service of Morning Worship that i
 ncludes Hymns\, Readings\, Prayers and a reflection. Stay afterwards and m
 eet and chat with others as we enjoy a cuppa and take our choice from the 
 selection of biscuits (and sometimes\, cake).
GEO:-2.557101;52.704802
LOCATION:Wrockwardine S.Peter
URL:https://www.achurchnearyou.com/church/4666/service-and-events/events/7
 4706/
END:VEVENT
BEGIN:VEVENT
SUMMARY:Morning Worship
DTSTART;TZID=Europe/London:20261122T111500
DTEND;TZID=Europe/London:20261122T120500
DTSTAMP:20260420T054943Z
UID:747062026-11-22 11:15:00+00:00achurchnearyou
CATEGORIES:
DESCRIPTION:Come along and join us for a service of Morning Worship that i
 ncludes Hymns\, Readings\, Prayers and a reflection. Stay afterwards and m
 eet and chat with others as we enjoy a cuppa and take our choice from the 
 selection of biscuits (and sometimes\, cake).
GEO:-2.557101;52.704802
LOCATION:Wrockwardine S.Peter
URL:https://www.achurchnearyou.com/church/4666/service-and-events/events/7
 4706/
END:VEVENT
BEGIN:VEVENT
SUMMARY:Morning Worship
DTSTART;TZID=Europe/London:20261213T111500
DTEND;TZID=Europe/London:20261213T120500
DTSTAMP:20260420T054943Z
UID:747062026-12-13 11:15:00+00:00achurchnearyou
CATEGORIES:
DESCRIPTION:Come along and join us for a service of Morning Worship that i
 ncludes Hymns\, Readings\, Prayers and a reflection. Stay afterwards and m
 eet and chat with others as we enjoy a cuppa and take our choice from the 
 selection of biscuits (and sometimes\, cake).
GEO:-2.557101;52.704802
LOCATION:Wrockwardine S.Peter
URL:https://www.achurchnearyou.com/church/4666/service-and-events/events/7
 4706/
END:VEVENT
BEGIN:VEVENT
SUMMARY:Morning Worship
DTSTART;TZID=Europe/London:20261227T111500
DTEND;TZID=Europe/London:20261227T120500
DTSTAMP:20260420T054943Z
UID:747062026-12-27 11:15:00+00:00achurchnearyou
CATEGORIES:
DESCRIPTION:Come along and join us for a service of Morning Worship that i
 ncludes Hymns\, Readings\, Prayers and a reflection. Stay afterwards and m
 eet and chat with others as we enjoy a cuppa and take our choice from the 
 selection of biscuits (and sometimes\, cake).
GEO:-2.557101;52.704802
LOCATION:Wrockwardine S.Peter
URL:https://www.achurchnearyou.com/church/4666/service-and-events/events/7
 4706/
END:VEVENT
BEGIN:VEVENT
SUMMARY:Morning Worship
DTSTART;TZID=Europe/London:20270110T111500
DTEND;TZID=Europe/London:20270110T120500
DTSTAMP:20260420T054943Z
UID:747062027-01-10 11:15:00+00:00achurchnearyou
CATEGORIES:
DESCRIPTION:Come along and join us for a service of Morning Worship that i
 ncludes Hymns\, Readings\, Prayers and a reflection. Stay afterwards and m
 eet and chat with others as we enjoy a cuppa and take our choice from the 
 selection of biscuits (and sometimes\, cake).
GEO:-2.557101;52.704802
LOCATION:Wrockwardine S.Peter
URL:https://www.achurchnearyou.com/church/4666/service-and-events/events/7
 4706/
END:VEVENT
BEGIN:VEVENT
SUMMARY:Morning Worship
DTSTART;TZID=Europe/London:20270124T111500
DTEND;TZID=Europe/London:20270124T120500
DTSTAMP:20260420T054943Z
UID:747062027-01-24 11:15:00+00:00achurchnearyou
CATEGORIES:
DESCRIPTION:Come along and join us for a service of Morning Worship that i
 ncludes Hymns\, Readings\, Prayers and a reflection. Stay afterwards and m
 eet and chat with others as we enjoy a cuppa and take our choice from the 
 selection of biscuits (and sometimes\, cake).
GEO:-2.557101;52.704802
LOCATION:Wrockwardine S.Peter
URL:https://www.achurchnearyou.com/church/4666/service-and-events/events/7
 4706/
END:VEVENT
BEGIN:VEVENT
SUMMARY:Morning Worship
DTSTART;TZID=Europe/London:20270214T111500
DTEND;TZID=Europe/London:20270214T120500
DTSTAMP:20260420T054943Z
UID:747062027-02-14 11:15:00+00:00achurchnearyou
CATEGORIES:
DESCRIPTION:Come along and join us for a service of Morning Worship that i
 ncludes Hymns\, Readings\, Prayers and a reflection. Stay afterwards and m
 eet and chat with others as we enjoy a cuppa and take our choice from the 
 selection of biscuits (and sometimes\, cake).
GEO:-2.557101;52.704802
LOCATION:Wrockwardine S.Peter
URL:https://www.achurchnearyou.com/church/4666/service-and-events/events/7
 4706/
END:VEVENT
BEGIN:VEVENT
SUMMARY:Morning Worship
DTSTART;TZID=Europe/London:20270228T111500
DTEND;TZID=Europe/London:20270228T120500
DTSTAMP:20260420T054943Z
UID:747062027-02-28 11:15:00+00:00achurchnearyou
CATEGORIES:
DESCRIPTION:Come along and join us for a service of Morning Worship that i
 ncludes Hymns\, Readings\, Prayers and a reflection. Stay afterwards and m
 eet and chat with others as we enjoy a cuppa and take our choice from the 
 selection of biscuits (and sometimes\, cake).
GEO:-2.557101;52.704802
LOCATION:Wrockwardine S.Peter
URL:https://www.achurchnearyou.com/church/4666/service-and-events/events/7
 4706/
END:VEVENT
BEGIN:VEVENT
SUMMARY:Morning Worship
DTSTART;TZID=Europe/London:20270314T111500
DTEND;TZID=Europe/London:20270314T120500
DTSTAMP:20260420T054943Z
UID:747062027-03-14 11:15:00+00:00achurchnearyou
CATEGORIES:
DESCRIPTION:Come along and join us for a service of Morning Worship that i
 ncludes Hymns\, Readings\, Prayers and a reflection. Stay afterwards and m
 eet and chat with others as we enjoy a cuppa and take our choice from the 
 selection of biscuits (and sometimes\, cake).
GEO:-2.557101;52.704802
LOCATION:Wrockwardine S.Peter
URL:https://www.achurchnearyou.com/church/4666/service-and-events/events/7
 4706/
END:VEVENT
BEGIN:VEVENT
SUMMARY:Morning Worship
DTSTART;TZID=Europe/London:20270328T111500
DTEND;TZID=Europe/London:20270328T120500
DTSTAMP:20260420T054943Z
UID:747062027-03-28 11:15:00+01:00achurchnearyou
CATEGORIES:
DESCRIPTION:Come along and join us for a service of Morning Worship that i
 ncludes Hymns\, Readings\, Prayers and a reflection. Stay afterwards and m
 eet and chat with others as we enjoy a cuppa and take our choice from the 
 selection of biscuits (and sometimes\, cake).
GEO:-2.557101;52.704802
LOCATION:Wrockwardine S.Peter
URL:https://www.achurchnearyou.com/church/4666/service-and-events/events/7
 4706/
END:VEVENT
BEGIN:VEVENT
SUMMARY:Morning Worship
DTSTART;TZID=Europe/London:20270411T111500
DTEND;TZID=Europe/London:20270411T120500
DTSTAMP:20260420T054943Z
UID:747062027-04-11 11:15:00+01:00achurchnearyou
CATEGORIES:
DESCRIPTION:Come along and join us for a service of Morning Worship that i
 ncludes Hymns\, Readings\, Prayers and a reflection. Stay afterwards and m
 eet and chat with others as we enjoy a cuppa and take our choice from the 
 selection of biscuits (and sometimes\, cake).
GEO:-2.557101;52.704802
LOCATION:Wrockwardine S.Peter
URL:https://www.achurchnearyou.com/church/4666/service-and-events/events/7
 4706/
END:VEVENT
END:VCALENDAR
