BEGIN:VCALENDAR
VERSION:2.0
PRODID:-//achurchnearyou.com//eventfeed//EN
CALSCALE:GREGORIAN
METHOD:PUBLISH
X-WR-TIMEZONE:UTC
BEGIN:VEVENT
SUMMARY:Crib and Christingle service
DTSTART:20251224T150000Z
DTEND:20251224T160000Z
DTSTAMP:20260425T010212Z
UID:11189882025-12-24 15:00:00+00:00achurchnearyou
CATEGORIES:
DESCRIPTION:A service telling the story of the birth of Jesus in a stable\
 , as we also share the light of Jesus using the traditional symbol made fr
 om an orange\, tape\, sweets and a candle.
GEO:-2.596874;52.653096
LOCATION:Eaton Constantine S.Mary
URL:https://www.achurchnearyou.com/church/4668/service-and-events/events/1
 118988/
END:VEVENT
END:VCALENDAR
