BEGIN:VCALENDAR
VERSION:2.0
PRODID:-//achurchnearyou.com//eventfeed//EN
CALSCALE:GREGORIAN
METHOD:PUBLISH
X-WR-TIMEZONE:UTC
BEGIN:VEVENT
SUMMARY:Coffee Morning
DTSTART;TZID=Europe/London:20260504T100000
DTEND;TZID=Europe/London:20260504T120000
DTSTAMP:20260424T012919Z
UID:8726112026-05-04 10:00:00+01:00achurchnearyou
CATEGORIES:
DESCRIPTION:Drop in for a cuppa\, biscuits/cake and a natter with others
LOCATION:The Village Hall
URL:https://www.achurchnearyou.com/church/4668/service-and-events/events/8
 72611/
END:VEVENT
BEGIN:VEVENT
SUMMARY:Coffee Morning
DTSTART;TZID=Europe/London:20260601T100000
DTEND;TZID=Europe/London:20260601T120000
DTSTAMP:20260424T012919Z
UID:8726112026-06-01 10:00:00+01:00achurchnearyou
CATEGORIES:
DESCRIPTION:Drop in for a cuppa\, biscuits/cake and a natter with others
LOCATION:The Village Hall
URL:https://www.achurchnearyou.com/church/4668/service-and-events/events/8
 72611/
END:VEVENT
BEGIN:VEVENT
SUMMARY:Coffee Morning
DTSTART;TZID=Europe/London:20260706T100000
DTEND;TZID=Europe/London:20260706T120000
DTSTAMP:20260424T012919Z
UID:8726112026-07-06 10:00:00+01:00achurchnearyou
CATEGORIES:
DESCRIPTION:Drop in for a cuppa\, biscuits/cake and a natter with others
LOCATION:The Village Hall
URL:https://www.achurchnearyou.com/church/4668/service-and-events/events/8
 72611/
END:VEVENT
BEGIN:VEVENT
SUMMARY:Coffee Morning
DTSTART;TZID=Europe/London:20260803T100000
DTEND;TZID=Europe/London:20260803T120000
DTSTAMP:20260424T012919Z
UID:8726112026-08-03 10:00:00+01:00achurchnearyou
CATEGORIES:
DESCRIPTION:Drop in for a cuppa\, biscuits/cake and a natter with others
LOCATION:The Village Hall
URL:https://www.achurchnearyou.com/church/4668/service-and-events/events/8
 72611/
END:VEVENT
BEGIN:VEVENT
SUMMARY:Coffee Morning
DTSTART;TZID=Europe/London:20260907T100000
DTEND;TZID=Europe/London:20260907T120000
DTSTAMP:20260424T012919Z
UID:8726112026-09-07 10:00:00+01:00achurchnearyou
CATEGORIES:
DESCRIPTION:Drop in for a cuppa\, biscuits/cake and a natter with others
LOCATION:The Village Hall
URL:https://www.achurchnearyou.com/church/4668/service-and-events/events/8
 72611/
END:VEVENT
BEGIN:VEVENT
SUMMARY:Coffee Morning
DTSTART;TZID=Europe/London:20261005T100000
DTEND;TZID=Europe/London:20261005T120000
DTSTAMP:20260424T012919Z
UID:8726112026-10-05 10:00:00+01:00achurchnearyou
CATEGORIES:
DESCRIPTION:Drop in for a cuppa\, biscuits/cake and a natter with others
LOCATION:The Village Hall
URL:https://www.achurchnearyou.com/church/4668/service-and-events/events/8
 72611/
END:VEVENT
BEGIN:VEVENT
SUMMARY:Coffee Morning
DTSTART;TZID=Europe/London:20261102T100000
DTEND;TZID=Europe/London:20261102T120000
DTSTAMP:20260424T012919Z
UID:8726112026-11-02 10:00:00+00:00achurchnearyou
CATEGORIES:
DESCRIPTION:Drop in for a cuppa\, biscuits/cake and a natter with others
LOCATION:The Village Hall
URL:https://www.achurchnearyou.com/church/4668/service-and-events/events/8
 72611/
END:VEVENT
BEGIN:VEVENT
SUMMARY:Coffee Morning
DTSTART;TZID=Europe/London:20261207T100000
DTEND;TZID=Europe/London:20261207T120000
DTSTAMP:20260424T012919Z
UID:8726112026-12-07 10:00:00+00:00achurchnearyou
CATEGORIES:
DESCRIPTION:Drop in for a cuppa\, biscuits/cake and a natter with others
LOCATION:The Village Hall
URL:https://www.achurchnearyou.com/church/4668/service-and-events/events/8
 72611/
END:VEVENT
BEGIN:VEVENT
SUMMARY:Coffee Morning
DTSTART;TZID=Europe/London:20270104T100000
DTEND;TZID=Europe/London:20270104T120000
DTSTAMP:20260424T012919Z
UID:8726112027-01-04 10:00:00+00:00achurchnearyou
CATEGORIES:
DESCRIPTION:Drop in for a cuppa\, biscuits/cake and a natter with others
LOCATION:The Village Hall
URL:https://www.achurchnearyou.com/church/4668/service-and-events/events/8
 72611/
END:VEVENT
BEGIN:VEVENT
SUMMARY:Coffee Morning
DTSTART;TZID=Europe/London:20270201T100000
DTEND;TZID=Europe/London:20270201T120000
DTSTAMP:20260424T012919Z
UID:8726112027-02-01 10:00:00+00:00achurchnearyou
CATEGORIES:
DESCRIPTION:Drop in for a cuppa\, biscuits/cake and a natter with others
LOCATION:The Village Hall
URL:https://www.achurchnearyou.com/church/4668/service-and-events/events/8
 72611/
END:VEVENT
BEGIN:VEVENT
SUMMARY:Coffee Morning
DTSTART;TZID=Europe/London:20270301T100000
DTEND;TZID=Europe/London:20270301T120000
DTSTAMP:20260424T012919Z
UID:8726112027-03-01 10:00:00+00:00achurchnearyou
CATEGORIES:
DESCRIPTION:Drop in for a cuppa\, biscuits/cake and a natter with others
LOCATION:The Village Hall
URL:https://www.achurchnearyou.com/church/4668/service-and-events/events/8
 72611/
END:VEVENT
BEGIN:VEVENT
SUMMARY:Coffee Morning
DTSTART;TZID=Europe/London:20270405T100000
DTEND;TZID=Europe/London:20270405T120000
DTSTAMP:20260424T012919Z
UID:8726112027-04-05 10:00:00+01:00achurchnearyou
CATEGORIES:
DESCRIPTION:Drop in for a cuppa\, biscuits/cake and a natter with others
LOCATION:The Village Hall
URL:https://www.achurchnearyou.com/church/4668/service-and-events/events/8
 72611/
END:VEVENT
END:VCALENDAR
