BEGIN:VCALENDAR
VERSION:2.0
PRODID:-//achurchnearyou.com//eventfeed//EN
CALSCALE:GREGORIAN
METHOD:PUBLISH
X-WR-TIMEZONE:UTC
BEGIN:VEVENT
SUMMARY:Christmas Carol Service
DTSTART:20251221T160000Z
DTEND:20251221T170000Z
DTSTAMP:20260425T012734Z
UID:12381942025-12-21 16:00:00+00:00achurchnearyou
CATEGORIES:
DESCRIPTION:Join us for this joyous community event as we sing carols\, he
 ar the story of Christ's birth\, have plentiful Christmas treats after\, a
 nd are accompanied by the Donkey House Players!
GEO:-1.264007;51.732362
LOCATION:St Laurence\, South Hinksey
URL:https://www.achurchnearyou.com/church/468/service-and-events/events/12
 38194/
END:VEVENT
END:VCALENDAR
