BEGIN:VCALENDAR
VERSION:2.0
PRODID:-//achurchnearyou.com//eventfeed//EN
CALSCALE:GREGORIAN
METHOD:PUBLISH
X-WR-TIMEZONE:UTC
BEGIN:VEVENT
SUMMARY:Midnight Mass
DTSTART:20251224T203000Z
DTEND:20251224T213000Z
DTSTAMP:20260424T235435Z
UID:12381982025-12-24 20:30:00+00:00achurchnearyou
CATEGORIES:
DESCRIPTION:Join us for this early midnight mass\, as we rejoice with the 
 angels in the birth of Christ our Lord.
GEO:-1.264007;51.732362
LOCATION:St Laurence\, South Hinksey
URL:https://www.achurchnearyou.com/church/468/service-and-events/events/12
 38198/
END:VEVENT
END:VCALENDAR
