BEGIN:VCALENDAR
VERSION:2.0
PRODID:-//achurchnearyou.com//eventfeed//EN
CALSCALE:GREGORIAN
METHOD:PUBLISH
X-WR-TIMEZONE:UTC
BEGIN:VEVENT
SUMMARY:Milton Keynes Confirmation Service
DTSTART:20251116T180000Z
DTEND:20251116T190000Z
DTSTAMP:20260424T112123Z
UID:12183812025-11-16 18:00:00+00:00achurchnearyou
CATEGORIES:
DESCRIPTION:Milton Keynes Confirmation Service
LOCATION:Church of the Servant King
URL:https://www.achurchnearyou.com/church/4680/service-and-events/events/1
 218381/
END:VEVENT
END:VCALENDAR
