BEGIN:VCALENDAR
VERSION:2.0
PRODID:-//achurchnearyou.com//eventfeed//EN
CALSCALE:GREGORIAN
METHOD:PUBLISH
X-WR-TIMEZONE:UTC
BEGIN:VEVENT
SUMMARY:Our Lent discussions 2025
DTSTART;TZID=Europe/London:20250312T103000
DTEND;TZID=Europe/London:20250312T113000
DTSTAMP:20260420T153440Z
UID:11618622025-03-12 10:30:00+00:00achurchnearyou
CATEGORIES:
DESCRIPTION:You are welcome to join us in church during Lent. Please join 
 us as often as you are able! Our friendly midweek Lenten discussions are o
 n Wednesday mornings at 10.30 after our midweek communion at 10.00am. We h
 ope to see you!
GEO:-1.474675;53.798495
LOCATION:Welcome to St. Wilfrid's\, Halton\, in East Leeds
URL:https://www.achurchnearyou.com/church/4684/service-and-events/events/1
 161862/
END:VEVENT
BEGIN:VEVENT
SUMMARY:Our Lent discussions 2025
DTSTART;TZID=Europe/London:20250319T103000
DTEND;TZID=Europe/London:20250319T113000
DTSTAMP:20260420T153440Z
UID:11618622025-03-19 10:30:00+00:00achurchnearyou
CATEGORIES:
DESCRIPTION:You are welcome to join us in church during Lent. Please join 
 us as often as you are able! Our friendly midweek Lenten discussions are o
 n Wednesday mornings at 10.30 after our midweek communion at 10.00am. We h
 ope to see you!
GEO:-1.474675;53.798495
LOCATION:Welcome to St. Wilfrid's\, Halton\, in East Leeds
URL:https://www.achurchnearyou.com/church/4684/service-and-events/events/1
 161862/
END:VEVENT
BEGIN:VEVENT
SUMMARY:Our Lent discussions 2025
DTSTART;TZID=Europe/London:20250326T103000
DTEND;TZID=Europe/London:20250326T113000
DTSTAMP:20260420T153440Z
UID:11618622025-03-26 10:30:00+00:00achurchnearyou
CATEGORIES:
DESCRIPTION:You are welcome to join us in church during Lent. Please join 
 us as often as you are able! Our friendly midweek Lenten discussions are o
 n Wednesday mornings at 10.30 after our midweek communion at 10.00am. We h
 ope to see you!
GEO:-1.474675;53.798495
LOCATION:Welcome to St. Wilfrid's\, Halton\, in East Leeds
URL:https://www.achurchnearyou.com/church/4684/service-and-events/events/1
 161862/
END:VEVENT
BEGIN:VEVENT
SUMMARY:Our Lent discussions 2025
DTSTART;TZID=Europe/London:20250402T103000
DTEND;TZID=Europe/London:20250402T113000
DTSTAMP:20260420T153440Z
UID:11618622025-04-02 10:30:00+01:00achurchnearyou
CATEGORIES:
DESCRIPTION:You are welcome to join us in church during Lent. Please join 
 us as often as you are able! Our friendly midweek Lenten discussions are o
 n Wednesday mornings at 10.30 after our midweek communion at 10.00am. We h
 ope to see you!
GEO:-1.474675;53.798495
LOCATION:Welcome to St. Wilfrid's\, Halton\, in East Leeds
URL:https://www.achurchnearyou.com/church/4684/service-and-events/events/1
 161862/
END:VEVENT
BEGIN:VEVENT
SUMMARY:Our Lent discussions 2025
DTSTART;TZID=Europe/London:20250409T103000
DTEND;TZID=Europe/London:20250409T113000
DTSTAMP:20260420T153440Z
UID:11618622025-04-09 10:30:00+01:00achurchnearyou
CATEGORIES:
DESCRIPTION:You are welcome to join us in church during Lent. Please join 
 us as often as you are able! Our friendly midweek Lenten discussions are o
 n Wednesday mornings at 10.30 after our midweek communion at 10.00am. We h
 ope to see you!
GEO:-1.474675;53.798495
LOCATION:Welcome to St. Wilfrid's\, Halton\, in East Leeds
URL:https://www.achurchnearyou.com/church/4684/service-and-events/events/1
 161862/
END:VEVENT
END:VCALENDAR
