BEGIN:VCALENDAR
VERSION:2.0
PRODID:-//achurchnearyou.com//eventfeed//EN
CALSCALE:GREGORIAN
METHOD:PUBLISH
X-WR-TIMEZONE:UTC
BEGIN:VEVENT
SUMMARY:Ash Wednesday
DTSTART:20260218T100000Z
DTEND:20260218T104500Z
DTSTAMP:20260419T185300Z
UID:12933572026-02-18 10:00:00+00:00achurchnearyou
CATEGORIES:
DESCRIPTION:Enjoy your pancakes on Shrove Tuesday (17th February) and then
  join us in church on Ash Wednesday morning\, 18th February. This service 
 marks the start of Lent. We will have a Eucharist service with Ashing at 1
 0.00. You are all welcome to join us!
GEO:-1.474675;53.798495
LOCATION:Welcome to St. Wilfrid's\, Halton\, in East Leeds
URL:https://www.achurchnearyou.com/church/4684/service-and-events/events/1
 293357/
END:VEVENT
END:VCALENDAR
