BEGIN:VCALENDAR
VERSION:2.0
PRODID:-//achurchnearyou.com//eventfeed//EN
CALSCALE:GREGORIAN
METHOD:PUBLISH
X-WR-TIMEZONE:UTC
BEGIN:VEVENT
SUMMARY:Easter Day Sunday 5th April 9:30am Holy Communion Service
DTSTART:20260405T083000Z
DTEND:20260405T093000Z
DTSTAMP:20260419T145436Z
UID:10436542026-04-05 08:30:00+00:00achurchnearyou
CATEGORIES:
DESCRIPTION:Come and join us for a service of Holy Communion to celebrate 
 Easter Day!
GEO:-0.979915;52.659001
LOCATION:Hungarton: St John the Baptist
URL:https://www.achurchnearyou.com/church/4708/service-and-events/events/1
 043654/
END:VEVENT
END:VCALENDAR
