BEGIN:VCALENDAR
VERSION:2.0
PRODID:-//achurchnearyou.com//eventfeed//EN
CALSCALE:GREGORIAN
METHOD:PUBLISH
X-WR-TIMEZONE:UTC
BEGIN:VEVENT
SUMMARY:Holy Communion (BCP)
DTSTART;TZID=Europe/London:20260426T090000
DTEND;TZID=Europe/London:20260426T094500
DTSTAMP:20260423T041810Z
UID:881142026-04-26 09:00:00+01:00achurchnearyou
CATEGORIES:
DESCRIPTION:Quiet and reflective Holy Communion Service
GEO:-1.031411;52.519769
LOCATION:St Helen's Church Saddington
URL:https://www.achurchnearyou.com/church/4711/service-and-events/events/8
 8114/
END:VEVENT
BEGIN:VEVENT
SUMMARY:Holy Communion (BCP)
DTSTART;TZID=Europe/London:20260524T090000
DTEND;TZID=Europe/London:20260524T094500
DTSTAMP:20260423T041810Z
UID:881142026-05-24 09:00:00+01:00achurchnearyou
CATEGORIES:
DESCRIPTION:Quiet and reflective Holy Communion Service
GEO:-1.031411;52.519769
LOCATION:St Helen's Church Saddington
URL:https://www.achurchnearyou.com/church/4711/service-and-events/events/8
 8114/
END:VEVENT
BEGIN:VEVENT
SUMMARY:Holy Communion (BCP)
DTSTART;TZID=Europe/London:20260628T090000
DTEND;TZID=Europe/London:20260628T094500
DTSTAMP:20260423T041810Z
UID:881142026-06-28 09:00:00+01:00achurchnearyou
CATEGORIES:
DESCRIPTION:Quiet and reflective Holy Communion Service
GEO:-1.031411;52.519769
LOCATION:St Helen's Church Saddington
URL:https://www.achurchnearyou.com/church/4711/service-and-events/events/8
 8114/
END:VEVENT
BEGIN:VEVENT
SUMMARY:Holy Communion (BCP)
DTSTART;TZID=Europe/London:20260726T090000
DTEND;TZID=Europe/London:20260726T094500
DTSTAMP:20260423T041810Z
UID:881142026-07-26 09:00:00+01:00achurchnearyou
CATEGORIES:
DESCRIPTION:Quiet and reflective Holy Communion Service
GEO:-1.031411;52.519769
LOCATION:St Helen's Church Saddington
URL:https://www.achurchnearyou.com/church/4711/service-and-events/events/8
 8114/
END:VEVENT
BEGIN:VEVENT
SUMMARY:Holy Communion (BCP)
DTSTART;TZID=Europe/London:20260823T090000
DTEND;TZID=Europe/London:20260823T094500
DTSTAMP:20260423T041810Z
UID:881142026-08-23 09:00:00+01:00achurchnearyou
CATEGORIES:
DESCRIPTION:Quiet and reflective Holy Communion Service
GEO:-1.031411;52.519769
LOCATION:St Helen's Church Saddington
URL:https://www.achurchnearyou.com/church/4711/service-and-events/events/8
 8114/
END:VEVENT
BEGIN:VEVENT
SUMMARY:Holy Communion (BCP)
DTSTART;TZID=Europe/London:20260927T090000
DTEND;TZID=Europe/London:20260927T094500
DTSTAMP:20260423T041810Z
UID:881142026-09-27 09:00:00+01:00achurchnearyou
CATEGORIES:
DESCRIPTION:Quiet and reflective Holy Communion Service
GEO:-1.031411;52.519769
LOCATION:St Helen's Church Saddington
URL:https://www.achurchnearyou.com/church/4711/service-and-events/events/8
 8114/
END:VEVENT
BEGIN:VEVENT
SUMMARY:Holy Communion (BCP)
DTSTART;TZID=Europe/London:20261025T090000
DTEND;TZID=Europe/London:20261025T094500
DTSTAMP:20260423T041810Z
UID:881142026-10-25 09:00:00+00:00achurchnearyou
CATEGORIES:
DESCRIPTION:Quiet and reflective Holy Communion Service
GEO:-1.031411;52.519769
LOCATION:St Helen's Church Saddington
URL:https://www.achurchnearyou.com/church/4711/service-and-events/events/8
 8114/
END:VEVENT
BEGIN:VEVENT
SUMMARY:Holy Communion (BCP)
DTSTART;TZID=Europe/London:20261122T090000
DTEND;TZID=Europe/London:20261122T094500
DTSTAMP:20260423T041810Z
UID:881142026-11-22 09:00:00+00:00achurchnearyou
CATEGORIES:
DESCRIPTION:Quiet and reflective Holy Communion Service
GEO:-1.031411;52.519769
LOCATION:St Helen's Church Saddington
URL:https://www.achurchnearyou.com/church/4711/service-and-events/events/8
 8114/
END:VEVENT
BEGIN:VEVENT
SUMMARY:Holy Communion (BCP)
DTSTART;TZID=Europe/London:20261227T090000
DTEND;TZID=Europe/London:20261227T094500
DTSTAMP:20260423T041810Z
UID:881142026-12-27 09:00:00+00:00achurchnearyou
CATEGORIES:
DESCRIPTION:Quiet and reflective Holy Communion Service
GEO:-1.031411;52.519769
LOCATION:St Helen's Church Saddington
URL:https://www.achurchnearyou.com/church/4711/service-and-events/events/8
 8114/
END:VEVENT
BEGIN:VEVENT
SUMMARY:Holy Communion (BCP)
DTSTART;TZID=Europe/London:20270124T090000
DTEND;TZID=Europe/London:20270124T094500
DTSTAMP:20260423T041810Z
UID:881142027-01-24 09:00:00+00:00achurchnearyou
CATEGORIES:
DESCRIPTION:Quiet and reflective Holy Communion Service
GEO:-1.031411;52.519769
LOCATION:St Helen's Church Saddington
URL:https://www.achurchnearyou.com/church/4711/service-and-events/events/8
 8114/
END:VEVENT
BEGIN:VEVENT
SUMMARY:Holy Communion (BCP)
DTSTART;TZID=Europe/London:20270228T090000
DTEND;TZID=Europe/London:20270228T094500
DTSTAMP:20260423T041810Z
UID:881142027-02-28 09:00:00+00:00achurchnearyou
CATEGORIES:
DESCRIPTION:Quiet and reflective Holy Communion Service
GEO:-1.031411;52.519769
LOCATION:St Helen's Church Saddington
URL:https://www.achurchnearyou.com/church/4711/service-and-events/events/8
 8114/
END:VEVENT
BEGIN:VEVENT
SUMMARY:Holy Communion (BCP)
DTSTART;TZID=Europe/London:20270328T090000
DTEND;TZID=Europe/London:20270328T094500
DTSTAMP:20260423T041810Z
UID:881142027-03-28 09:00:00+01:00achurchnearyou
CATEGORIES:
DESCRIPTION:Quiet and reflective Holy Communion Service
GEO:-1.031411;52.519769
LOCATION:St Helen's Church Saddington
URL:https://www.achurchnearyou.com/church/4711/service-and-events/events/8
 8114/
END:VEVENT
END:VCALENDAR
