BEGIN:VCALENDAR
VERSION:2.0
PRODID:-//achurchnearyou.com//eventfeed//EN
CALSCALE:GREGORIAN
METHOD:PUBLISH
X-WR-TIMEZONE:UTC
BEGIN:VEVENT
SUMMARY:Ash Wednesday Service
DTSTART:20260218T190000Z
DTEND:20260218T200000Z
DTSTAMP:20260419T145051Z
UID:12914842026-02-18 19:00:00+00:00achurchnearyou
CATEGORIES:
DESCRIPTION:A service for Ash Wednesday\, including Holy Communion (CW) an
 d Ashing
LOCATION:St Leonard's Church
URL:http://www.iverparishchurch.org.uk
END:VEVENT
END:VCALENDAR
