BEGIN:VCALENDAR
VERSION:2.0
PRODID:-//achurchnearyou.com//eventfeed//EN
CALSCALE:GREGORIAN
METHOD:PUBLISH
X-WR-TIMEZONE:UTC
BEGIN:VEVENT
SUMMARY:Family Service
DTSTART:20260621T093000Z
DTEND:20260621T103000Z
DTSTAMP:20260424T151116Z
UID:12770552026-06-21 09:30:00+00:00achurchnearyou
CATEGORIES:
DESCRIPTION:(no Holy Communion)
GEO:1.278684;51.278647
LOCATION:Ash: St Nicholas
URL:https://www.achurchnearyou.com/church/4733/service-and-events/events/1
 277055/
END:VEVENT
END:VCALENDAR
