BEGIN:VCALENDAR
VERSION:2.0
PRODID:-//achurchnearyou.com//eventfeed//EN
CALSCALE:GREGORIAN
METHOD:PUBLISH
X-WR-TIMEZONE:UTC
BEGIN:VEVENT
SUMMARY:Easter Vigil followed by Resurrection Party
DTSTART:20250419T180000Z
DTEND:20250419T193000Z
DTSTAMP:20260422T164256Z
UID:11678242025-04-19 18:00:00+00:00achurchnearyou
CATEGORIES:
DESCRIPTION:Holy Saturday eucharist. The building begins in darkness. The 
 minister and people gather outside\, where the new fire is kindled\, the P
 aschal candle is marked and then processed into the church\, followed by t
 he vigil and the celebration that Christ is risen. After the service we ce
 lebrate with a party.
GEO:-0.711123;50.783877
LOCATION:The Parish Church of St Richard\, Aldwick
URL:https://www.achurchnearyou.com/church/4756/service-and-events/events/1
 167824/
END:VEVENT
END:VCALENDAR
