BEGIN:VCALENDAR
VERSION:2.0
PRODID:-//achurchnearyou.com//eventfeed//EN
CALSCALE:GREGORIAN
METHOD:PUBLISH
X-WR-TIMEZONE:UTC
BEGIN:VEVENT
SUMMARY:Aldwick Mothers' Union
DTSTART:20250701T150000Z
DTEND:20250701T163000Z
DTSTAMP:20260422T091411Z
UID:12069842025-07-01 15:00:00+00:00achurchnearyou
CATEGORIES:
DESCRIPTION:The Aldwick branch of the Mothers' Union are hosting afternoon
  tea. Please get in touch to let us know you're coming - for catering.
LOCATION:The Mosse Memorial Hall
URL:https://www.achurchnearyou.com/church/4756/service-and-events/events/1
 206984/
END:VEVENT
END:VCALENDAR
