BEGIN:VCALENDAR
VERSION:2.0
PRODID:-//achurchnearyou.com//eventfeed//EN
CALSCALE:GREGORIAN
METHOD:PUBLISH
X-WR-TIMEZONE:UTC
BEGIN:VEVENT
SUMMARY:Lunch on Sunday
DTSTART;TZID=Europe/London:20250914T124500
DTEND;TZID=Europe/London:20250914T150000
DTSTAMP:20260422T052813Z
UID:12187242025-09-14 12:45:00+01:00achurchnearyou
CATEGORIES:
DESCRIPTION:Note the change of date for September. A community event where
  all are invited to come and share a meal together following our Parish Fa
 mily Eucharist.  A sign up sheet is available in church for a couple of we
 eks in advance\, or email the parish mailbox strichardsaldwick@gmail.com t
 o book in and for more information. Cost £10 on the day.
LOCATION:The Mosse Memorial Hall
URL:https://www.achurchnearyou.com/church/4756/service-and-events/events/1
 218724/
END:VEVENT
END:VCALENDAR
