BEGIN:VCALENDAR
VERSION:2.0
PRODID:-//achurchnearyou.com//eventfeed//EN
CALSCALE:GREGORIAN
METHOD:PUBLISH
X-WR-TIMEZONE:UTC
BEGIN:VEVENT
SUMMARY:Aldwick Mothers' Union Christmas Party
DTSTART:20251202T163000Z
DTEND:20251202T180000Z
DTSTAMP:20260421T233249Z
UID:12441772025-12-02 16:30:00+00:00achurchnearyou
CATEGORIES:
DESCRIPTION:Christmas tea party\, hosted by the Aldwick branch of the Moth
 ers' Union
LOCATION:The Mosse Memorial Hall
URL:https://www.achurchnearyou.com/church/4756/service-and-events/events/1
 244177/
END:VEVENT
END:VCALENDAR
