BEGIN:VCALENDAR
VERSION:2.0
PRODID:-//achurchnearyou.com//eventfeed//EN
CALSCALE:GREGORIAN
METHOD:PUBLISH
X-WR-TIMEZONE:UTC
BEGIN:VEVENT
SUMMARY:Christingle Service (All Age Service)
DTSTART:20251207T170000Z
DTEND:20251207T180000Z
DTSTAMP:20260423T162455Z
UID:12276582025-12-07 17:00:00+00:00achurchnearyou
CATEGORIES:
DESCRIPTION:Christingle is a joyful celebration of Christmas that brings f
 amilies and communities together to share the light of Jesus and spread a 
 message of hope and we'd love you to join us. Christingles are made using 
 oranges and a few other bits but don't worry we'll talk you through it all
  and provide all the materials.
LOCATION:St Margaret's
URL:https://www.achurchnearyou.com/church/4759/service-and-events/events/1
 227658/
END:VEVENT
END:VCALENDAR
