BEGIN:VCALENDAR
VERSION:2.0
PRODID:-//achurchnearyou.com//eventfeed//EN
CALSCALE:GREGORIAN
METHOD:PUBLISH
X-WR-TIMEZONE:UTC
BEGIN:VEVENT
SUMMARY:Stations of the Cross
DTSTART:20260306T183000Z
DTEND:20260306T193000Z
DTSTAMP:20260423T121831Z
UID:10345162026-03-06 18:30:00+00:00achurchnearyou
CATEGORIES:
DESCRIPTION:Come and Walk with him
LOCATION:St Mary the Virgin\, Barnham
URL:https://www.achurchnearyou.com/church/4771/service-and-events/events/1
 034516/
END:VEVENT
END:VCALENDAR
