BEGIN:VCALENDAR
VERSION:2.0
PRODID:-//achurchnearyou.com//eventfeed//EN
CALSCALE:GREGORIAN
METHOD:PUBLISH
X-WR-TIMEZONE:UTC
BEGIN:VEVENT
SUMMARY:Dawn Mass of the Resurrection
DTSTART:20260405T043000Z
DTEND:20260405T053000Z
DTSTAMP:20260423T135016Z
UID:4912532026-04-05 04:30:00+00:00achurchnearyou
CATEGORIES:
DESCRIPTION:Easter fire\, blessing of the Pascal candle.
GEO:-0.643547;50.82367
LOCATION:St Mary the Virgin\, Barnham
URL:https://www.achurchnearyou.com/church/4771/service-and-events/events/4
 91253/
END:VEVENT
END:VCALENDAR
