BEGIN:VCALENDAR
VERSION:2.0
PRODID:-//achurchnearyou.com//eventfeed//EN
CALSCALE:GREGORIAN
METHOD:PUBLISH
X-WR-TIMEZONE:UTC
BEGIN:VEVENT
SUMMARY:New Years Day Mass
DTSTART:20260101T111500Z
DTEND:20260101T121500Z
DTSTAMP:20260423T195730Z
UID:5180322026-01-01 11:15:00+00:00achurchnearyou
CATEGORIES:
DESCRIPTION:Sung Mass\, for the Solemnity of Mary Mother of God
GEO:-0.643547;50.82367
LOCATION:St Mary the Virgin\, Barnham
URL:https://www.achurchnearyou.com/church/4771/service-and-events/events/5
 18032/
END:VEVENT
END:VCALENDAR
