BEGIN:VCALENDAR
VERSION:2.0
PRODID:-//achurchnearyou.com//eventfeed//EN
CALSCALE:GREGORIAN
METHOD:PUBLISH
X-WR-TIMEZONE:UTC
BEGIN:VEVENT
SUMMARY:Evensong and Benediction
DTSTART:20260405T170000Z
DTEND:20260405T174500Z
DTSTAMP:20260423T121339Z
UID:7203192026-04-05 17:00:00+00:00achurchnearyou
CATEGORIES:
DESCRIPTION:Evensong and Benediction of Easter Day
GEO:-0.643547;50.82367
LOCATION:St Mary the Virgin\, Barnham
URL:https://www.achurchnearyou.com/church/4771/service-and-events/events/7
 20319/
END:VEVENT
END:VCALENDAR
