BEGIN:VCALENDAR
VERSION:2.0
PRODID:-//achurchnearyou.com//eventfeed//EN
CALSCALE:GREGORIAN
METHOD:PUBLISH
X-WR-TIMEZONE:UTC
BEGIN:VEVENT
SUMMARY:Healing Mass
DTSTART;TZID=Europe/London:20250206T100000
DTEND;TZID=Europe/London:20250206T104500
DTSTAMP:20260421T184439Z
UID:11505312025-02-06 10:00:00+00:00achurchnearyou
CATEGORIES:
DESCRIPTION:Mass with Healing Ministries (Anointing and laying on of hands
 ). \nConfession available from 9am.\nPlease check the dates\, as there is 
 variation some months.
GEO:0.467988;50.856464
LOCATION:The Parish Church of All Saints\, Sidley
URL:https://www.achurchnearyou.com/church/4780/service-and-events/events/1
 150531/
END:VEVENT
BEGIN:VEVENT
SUMMARY:Healing Mass
DTSTART;TZID=Europe/London:20250306T100000
DTEND;TZID=Europe/London:20250306T104500
DTSTAMP:20260421T184439Z
UID:11505312025-03-06 10:00:00+00:00achurchnearyou
CATEGORIES:
DESCRIPTION:Mass with Healing Ministries (Anointing and laying on of hands
 ). \nConfession available from 9am.\nPlease check the dates\, as there is 
 variation some months.
GEO:0.467988;50.856464
LOCATION:The Parish Church of All Saints\, Sidley
URL:https://www.achurchnearyou.com/church/4780/service-and-events/events/1
 150531/
END:VEVENT
BEGIN:VEVENT
SUMMARY:Healing Mass
DTSTART;TZID=Europe/London:20250403T100000
DTEND;TZID=Europe/London:20250403T104500
DTSTAMP:20260421T184439Z
UID:11505312025-04-03 10:00:00+01:00achurchnearyou
CATEGORIES:
DESCRIPTION:Mass with Healing Ministries (Anointing and laying on of hands
 ). \nConfession available from 9am.\nPlease check the dates\, as there is 
 variation some months.
GEO:0.467988;50.856464
LOCATION:The Parish Church of All Saints\, Sidley
URL:https://www.achurchnearyou.com/church/4780/service-and-events/events/1
 150531/
END:VEVENT
BEGIN:VEVENT
SUMMARY:Healing Mass
DTSTART;TZID=Europe/London:20250501T100000
DTEND;TZID=Europe/London:20250501T104500
DTSTAMP:20260421T184439Z
UID:11505312025-05-01 10:00:00+01:00achurchnearyou
CATEGORIES:
DESCRIPTION:Mass with Healing Ministries (Anointing and laying on of hands
 ). \nConfession available from 9am.\nPlease check the dates\, as there is 
 variation some months.
GEO:0.467988;50.856464
LOCATION:The Parish Church of All Saints\, Sidley
URL:https://www.achurchnearyou.com/church/4780/service-and-events/events/1
 150531/
END:VEVENT
BEGIN:VEVENT
SUMMARY:Healing Mass
DTSTART;TZID=Europe/London:20250605T100000
DTEND;TZID=Europe/London:20250605T104500
DTSTAMP:20260421T184439Z
UID:11505312025-06-05 10:00:00+01:00achurchnearyou
CATEGORIES:
DESCRIPTION:Mass with Healing Ministries (Anointing and laying on of hands
 ). \nConfession available from 9am.\nPlease check the dates\, as there is 
 variation some months.
GEO:0.467988;50.856464
LOCATION:The Parish Church of All Saints\, Sidley
URL:https://www.achurchnearyou.com/church/4780/service-and-events/events/1
 150531/
END:VEVENT
BEGIN:VEVENT
SUMMARY:Healing Mass
DTSTART;TZID=Europe/London:20250703T100000
DTEND;TZID=Europe/London:20250703T104500
DTSTAMP:20260421T184439Z
UID:11505312025-07-03 10:00:00+01:00achurchnearyou
CATEGORIES:
DESCRIPTION:Mass with Healing Ministries (Anointing and laying on of hands
 ). \nConfession available from 9am.\nPlease check the dates\, as there is 
 variation some months.
GEO:0.467988;50.856464
LOCATION:The Parish Church of All Saints\, Sidley
URL:https://www.achurchnearyou.com/church/4780/service-and-events/events/1
 150531/
END:VEVENT
BEGIN:VEVENT
SUMMARY:Healing Mass
DTSTART;TZID=Europe/London:20250807T100000
DTEND;TZID=Europe/London:20250807T104500
DTSTAMP:20260421T184439Z
UID:11505312025-08-07 10:00:00+01:00achurchnearyou
CATEGORIES:
DESCRIPTION:Mass with Healing Ministries (Anointing and laying on of hands
 ). \nConfession available from 9am.\nPlease check the dates\, as there is 
 variation some months.
GEO:0.467988;50.856464
LOCATION:The Parish Church of All Saints\, Sidley
URL:https://www.achurchnearyou.com/church/4780/service-and-events/events/1
 150531/
END:VEVENT
BEGIN:VEVENT
SUMMARY:Healing Mass
DTSTART;TZID=Europe/London:20250904T100000
DTEND;TZID=Europe/London:20250904T104500
DTSTAMP:20260421T184439Z
UID:11505312025-09-04 10:00:00+01:00achurchnearyou
CATEGORIES:
DESCRIPTION:Mass with Healing Ministries (Anointing and laying on of hands
 ). \nConfession available from 9am.\nPlease check the dates\, as there is 
 variation some months.
GEO:0.467988;50.856464
LOCATION:The Parish Church of All Saints\, Sidley
URL:https://www.achurchnearyou.com/church/4780/service-and-events/events/1
 150531/
END:VEVENT
BEGIN:VEVENT
SUMMARY:Healing Mass
DTSTART;TZID=Europe/London:20251002T100000
DTEND;TZID=Europe/London:20251002T104500
DTSTAMP:20260421T184439Z
UID:11505312025-10-02 10:00:00+01:00achurchnearyou
CATEGORIES:
DESCRIPTION:Mass with Healing Ministries (Anointing and laying on of hands
 ). \nConfession available from 9am.\nPlease check the dates\, as there is 
 variation some months.
GEO:0.467988;50.856464
LOCATION:The Parish Church of All Saints\, Sidley
URL:https://www.achurchnearyou.com/church/4780/service-and-events/events/1
 150531/
END:VEVENT
BEGIN:VEVENT
SUMMARY:Healing Mass
DTSTART;TZID=Europe/London:20251106T100000
DTEND;TZID=Europe/London:20251106T104500
DTSTAMP:20260421T184439Z
UID:11505312025-11-06 10:00:00+00:00achurchnearyou
CATEGORIES:
DESCRIPTION:Mass with Healing Ministries (Anointing and laying on of hands
 ). \nConfession available from 9am.\nPlease check the dates\, as there is 
 variation some months.
GEO:0.467988;50.856464
LOCATION:The Parish Church of All Saints\, Sidley
URL:https://www.achurchnearyou.com/church/4780/service-and-events/events/1
 150531/
END:VEVENT
BEGIN:VEVENT
SUMMARY:Healing Mass
DTSTART;TZID=Europe/London:20251204T100000
DTEND;TZID=Europe/London:20251204T104500
DTSTAMP:20260421T184439Z
UID:11505312025-12-04 10:00:00+00:00achurchnearyou
CATEGORIES:
DESCRIPTION:Mass with Healing Ministries (Anointing and laying on of hands
 ). \nConfession available from 9am.\nPlease check the dates\, as there is 
 variation some months.
GEO:0.467988;50.856464
LOCATION:The Parish Church of All Saints\, Sidley
URL:https://www.achurchnearyou.com/church/4780/service-and-events/events/1
 150531/
END:VEVENT
BEGIN:VEVENT
SUMMARY:Healing Mass
DTSTART;TZID=Europe/London:20260101T100000
DTEND;TZID=Europe/London:20260101T104500
DTSTAMP:20260421T184439Z
UID:11505312026-01-01 10:00:00+00:00achurchnearyou
CATEGORIES:
DESCRIPTION:Mass with Healing Ministries (Anointing and laying on of hands
 ). \nConfession available from 9am.\nPlease check the dates\, as there is 
 variation some months.
GEO:0.467988;50.856464
LOCATION:The Parish Church of All Saints\, Sidley
URL:https://www.achurchnearyou.com/church/4780/service-and-events/events/1
 150531/
END:VEVENT
BEGIN:VEVENT
SUMMARY:Healing Mass
DTSTART;TZID=Europe/London:20260205T100000
DTEND;TZID=Europe/London:20260205T104500
DTSTAMP:20260421T184439Z
UID:11505312026-02-05 10:00:00+00:00achurchnearyou
CATEGORIES:
DESCRIPTION:Mass with Healing Ministries (Anointing and laying on of hands
 ). \nConfession available from 9am.\nPlease check the dates\, as there is 
 variation some months.
GEO:0.467988;50.856464
LOCATION:The Parish Church of All Saints\, Sidley
URL:https://www.achurchnearyou.com/church/4780/service-and-events/events/1
 150531/
END:VEVENT
BEGIN:VEVENT
SUMMARY:Healing Mass
DTSTART;TZID=Europe/London:20260305T100000
DTEND;TZID=Europe/London:20260305T104500
DTSTAMP:20260421T184439Z
UID:11505312026-03-05 10:00:00+00:00achurchnearyou
CATEGORIES:
DESCRIPTION:Mass with Healing Ministries (Anointing and laying on of hands
 ). \nConfession available from 9am.\nPlease check the dates\, as there is 
 variation some months.
GEO:0.467988;50.856464
LOCATION:The Parish Church of All Saints\, Sidley
URL:https://www.achurchnearyou.com/church/4780/service-and-events/events/1
 150531/
END:VEVENT
BEGIN:VEVENT
SUMMARY:Healing Mass
DTSTART;TZID=Europe/London:20260402T100000
DTEND;TZID=Europe/London:20260402T104500
DTSTAMP:20260421T184439Z
UID:11505312026-04-02 10:00:00+01:00achurchnearyou
CATEGORIES:
DESCRIPTION:Mass with Healing Ministries (Anointing and laying on of hands
 ). \nConfession available from 9am.\nPlease check the dates\, as there is 
 variation some months.
GEO:0.467988;50.856464
LOCATION:The Parish Church of All Saints\, Sidley
URL:https://www.achurchnearyou.com/church/4780/service-and-events/events/1
 150531/
END:VEVENT
BEGIN:VEVENT
SUMMARY:Healing Mass
DTSTART;TZID=Europe/London:20260507T100000
DTEND;TZID=Europe/London:20260507T104500
DTSTAMP:20260421T184439Z
UID:11505312026-05-07 10:00:00+01:00achurchnearyou
CATEGORIES:
DESCRIPTION:Mass with Healing Ministries (Anointing and laying on of hands
 ). \nConfession available from 9am.\nPlease check the dates\, as there is 
 variation some months.
GEO:0.467988;50.856464
LOCATION:The Parish Church of All Saints\, Sidley
URL:https://www.achurchnearyou.com/church/4780/service-and-events/events/1
 150531/
END:VEVENT
BEGIN:VEVENT
SUMMARY:Healing Mass
DTSTART;TZID=Europe/London:20260604T100000
DTEND;TZID=Europe/London:20260604T104500
DTSTAMP:20260421T184439Z
UID:11505312026-06-04 10:00:00+01:00achurchnearyou
CATEGORIES:
DESCRIPTION:Mass with Healing Ministries (Anointing and laying on of hands
 ). \nConfession available from 9am.\nPlease check the dates\, as there is 
 variation some months.
GEO:0.467988;50.856464
LOCATION:The Parish Church of All Saints\, Sidley
URL:https://www.achurchnearyou.com/church/4780/service-and-events/events/1
 150531/
END:VEVENT
BEGIN:VEVENT
SUMMARY:Healing Mass
DTSTART;TZID=Europe/London:20260702T100000
DTEND;TZID=Europe/London:20260702T104500
DTSTAMP:20260421T184439Z
UID:11505312026-07-02 10:00:00+01:00achurchnearyou
CATEGORIES:
DESCRIPTION:Mass with Healing Ministries (Anointing and laying on of hands
 ). \nConfession available from 9am.\nPlease check the dates\, as there is 
 variation some months.
GEO:0.467988;50.856464
LOCATION:The Parish Church of All Saints\, Sidley
URL:https://www.achurchnearyou.com/church/4780/service-and-events/events/1
 150531/
END:VEVENT
BEGIN:VEVENT
SUMMARY:Healing Mass
DTSTART;TZID=Europe/London:20260806T100000
DTEND;TZID=Europe/London:20260806T104500
DTSTAMP:20260421T184439Z
UID:11505312026-08-06 10:00:00+01:00achurchnearyou
CATEGORIES:
DESCRIPTION:Mass with Healing Ministries (Anointing and laying on of hands
 ). \nConfession available from 9am.\nPlease check the dates\, as there is 
 variation some months.
GEO:0.467988;50.856464
LOCATION:The Parish Church of All Saints\, Sidley
URL:https://www.achurchnearyou.com/church/4780/service-and-events/events/1
 150531/
END:VEVENT
BEGIN:VEVENT
SUMMARY:Healing Mass
DTSTART;TZID=Europe/London:20260903T100000
DTEND;TZID=Europe/London:20260903T104500
DTSTAMP:20260421T184439Z
UID:11505312026-09-03 10:00:00+01:00achurchnearyou
CATEGORIES:
DESCRIPTION:Mass with Healing Ministries (Anointing and laying on of hands
 ). \nConfession available from 9am.\nPlease check the dates\, as there is 
 variation some months.
GEO:0.467988;50.856464
LOCATION:The Parish Church of All Saints\, Sidley
URL:https://www.achurchnearyou.com/church/4780/service-and-events/events/1
 150531/
END:VEVENT
BEGIN:VEVENT
SUMMARY:Healing Mass
DTSTART;TZID=Europe/London:20261001T100000
DTEND;TZID=Europe/London:20261001T104500
DTSTAMP:20260421T184439Z
UID:11505312026-10-01 10:00:00+01:00achurchnearyou
CATEGORIES:
DESCRIPTION:Mass with Healing Ministries (Anointing and laying on of hands
 ). \nConfession available from 9am.\nPlease check the dates\, as there is 
 variation some months.
GEO:0.467988;50.856464
LOCATION:The Parish Church of All Saints\, Sidley
URL:https://www.achurchnearyou.com/church/4780/service-and-events/events/1
 150531/
END:VEVENT
BEGIN:VEVENT
SUMMARY:Healing Mass
DTSTART;TZID=Europe/London:20261105T100000
DTEND;TZID=Europe/London:20261105T104500
DTSTAMP:20260421T184439Z
UID:11505312026-11-05 10:00:00+00:00achurchnearyou
CATEGORIES:
DESCRIPTION:Mass with Healing Ministries (Anointing and laying on of hands
 ). \nConfession available from 9am.\nPlease check the dates\, as there is 
 variation some months.
GEO:0.467988;50.856464
LOCATION:The Parish Church of All Saints\, Sidley
URL:https://www.achurchnearyou.com/church/4780/service-and-events/events/1
 150531/
END:VEVENT
BEGIN:VEVENT
SUMMARY:Healing Mass
DTSTART;TZID=Europe/London:20261203T100000
DTEND;TZID=Europe/London:20261203T104500
DTSTAMP:20260421T184439Z
UID:11505312026-12-03 10:00:00+00:00achurchnearyou
CATEGORIES:
DESCRIPTION:Mass with Healing Ministries (Anointing and laying on of hands
 ). \nConfession available from 9am.\nPlease check the dates\, as there is 
 variation some months.
GEO:0.467988;50.856464
LOCATION:The Parish Church of All Saints\, Sidley
URL:https://www.achurchnearyou.com/church/4780/service-and-events/events/1
 150531/
END:VEVENT
BEGIN:VEVENT
SUMMARY:Healing Mass
DTSTART;TZID=Europe/London:20270107T100000
DTEND;TZID=Europe/London:20270107T104500
DTSTAMP:20260421T184439Z
UID:11505312027-01-07 10:00:00+00:00achurchnearyou
CATEGORIES:
DESCRIPTION:Mass with Healing Ministries (Anointing and laying on of hands
 ). \nConfession available from 9am.\nPlease check the dates\, as there is 
 variation some months.
GEO:0.467988;50.856464
LOCATION:The Parish Church of All Saints\, Sidley
URL:https://www.achurchnearyou.com/church/4780/service-and-events/events/1
 150531/
END:VEVENT
BEGIN:VEVENT
SUMMARY:Healing Mass
DTSTART;TZID=Europe/London:20270204T100000
DTEND;TZID=Europe/London:20270204T104500
DTSTAMP:20260421T184439Z
UID:11505312027-02-04 10:00:00+00:00achurchnearyou
CATEGORIES:
DESCRIPTION:Mass with Healing Ministries (Anointing and laying on of hands
 ). \nConfession available from 9am.\nPlease check the dates\, as there is 
 variation some months.
GEO:0.467988;50.856464
LOCATION:The Parish Church of All Saints\, Sidley
URL:https://www.achurchnearyou.com/church/4780/service-and-events/events/1
 150531/
END:VEVENT
BEGIN:VEVENT
SUMMARY:Healing Mass
DTSTART;TZID=Europe/London:20270304T100000
DTEND;TZID=Europe/London:20270304T104500
DTSTAMP:20260421T184439Z
UID:11505312027-03-04 10:00:00+00:00achurchnearyou
CATEGORIES:
DESCRIPTION:Mass with Healing Ministries (Anointing and laying on of hands
 ). \nConfession available from 9am.\nPlease check the dates\, as there is 
 variation some months.
GEO:0.467988;50.856464
LOCATION:The Parish Church of All Saints\, Sidley
URL:https://www.achurchnearyou.com/church/4780/service-and-events/events/1
 150531/
END:VEVENT
BEGIN:VEVENT
SUMMARY:Healing Mass
DTSTART;TZID=Europe/London:20270401T100000
DTEND;TZID=Europe/London:20270401T104500
DTSTAMP:20260421T184439Z
UID:11505312027-04-01 10:00:00+01:00achurchnearyou
CATEGORIES:
DESCRIPTION:Mass with Healing Ministries (Anointing and laying on of hands
 ). \nConfession available from 9am.\nPlease check the dates\, as there is 
 variation some months.
GEO:0.467988;50.856464
LOCATION:The Parish Church of All Saints\, Sidley
URL:https://www.achurchnearyou.com/church/4780/service-and-events/events/1
 150531/
END:VEVENT
END:VCALENDAR
